BEGIN:VCALENDAR
VERSION:2.0
PRODID:-//Zorggroep Orion - ECPv6.15.17.1//NONSGML v1.0//EN
CALSCALE:GREGORIAN
METHOD:PUBLISH
X-ORIGINAL-URL:https://zorggroep-orion.be
X-WR-CALDESC:Evenementen voor Zorggroep Orion
REFRESH-INTERVAL;VALUE=DURATION:PT1H
X-Robots-Tag:noindex
X-PUBLISHED-TTL:PT1H
BEGIN:VTIMEZONE
TZID:Europe/Brussels
BEGIN:DAYLIGHT
TZOFFSETFROM:+0100
TZOFFSETTO:+0200
TZNAME:CEST
DTSTART:20230326T010000
END:DAYLIGHT
BEGIN:STANDARD
TZOFFSETFROM:+0200
TZOFFSETTO:+0100
TZNAME:CET
DTSTART:20231029T010000
END:STANDARD
BEGIN:DAYLIGHT
TZOFFSETFROM:+0100
TZOFFSETTO:+0200
TZNAME:CEST
DTSTART:20240331T010000
END:DAYLIGHT
BEGIN:STANDARD
TZOFFSETFROM:+0200
TZOFFSETTO:+0100
TZNAME:CET
DTSTART:20241027T010000
END:STANDARD
BEGIN:DAYLIGHT
TZOFFSETFROM:+0100
TZOFFSETTO:+0200
TZNAME:CEST
DTSTART:20250330T010000
END:DAYLIGHT
BEGIN:STANDARD
TZOFFSETFROM:+0200
TZOFFSETTO:+0100
TZNAME:CET
DTSTART:20251026T010000
END:STANDARD
END:VTIMEZONE
BEGIN:VEVENT
DTSTART;TZID=Europe/Brussels:20240531T150000
DTEND;TZID=Europe/Brussels:20240531T160000
DTSTAMP:20260426T001611
CREATED:20240422T101429Z
LAST-MODIFIED:20240422T101429Z
UID:10608770-1717167600-1717171200@zorggroep-orion.be
SUMMARY:Dag van de Buren: ijskraam
DESCRIPTION:Op vrijdag 31 mei is het Dag van de Buren. Wij zien onze buren en bezoekers dan ook graag samenkomen.\nDie dag zal de ijskar van het Ijssloeberke naar De Schoor komen tussen 15u en 16u. Iedereen welkom!\nIjs te betalen aan de ijskar.
URL:https://zorggroep-orion.be/activiteit/dag-van-de-buren-ijskraam/
LOCATION:Dienstencentrum De Schoor\, Schorvoortstraat 53\, Turnhout\, 2300
CATEGORIES:Eten & Drinken
ATTACH;FMTTYPE=image/png:https://zorggroep-orion.be/wp-content/uploads/2024/04/Ijssloeberke.png
END:VEVENT
BEGIN:VEVENT
DTSTART;TZID=Europe/Brussels:20240530T133000
DTEND;TZID=Europe/Brussels:20240530T170000
DTSTAMP:20260426T001611
CREATED:20240422T134834Z
LAST-MODIFIED:20240422T134834Z
UID:10608776-1717075800-1717088400@zorggroep-orion.be
SUMMARY:Crea: vilten creaties maken
DESCRIPTION:Kom je mee vilten creaties maken? Een tasje\, een brillenhoes\, … Onze crea-groep maakt weer heel wat mooie creaties\, dit keer vanuit wol met vilt.\nWe werken verder aan de werkjes van vorige week. \nGelieve in te schrijven.
URL:https://zorggroep-orion.be/activiteit/crea-vilten-creaties-maken-2/
LOCATION:Dienstencentrum De Schoor\, Schorvoortstraat 53\, Turnhout\, 2300
CATEGORIES:Workshop
ATTACH;FMTTYPE=image/png:https://zorggroep-orion.be/wp-content/uploads/2024/04/act202405-crea-vilten.png
END:VEVENT
BEGIN:VEVENT
DTSTART;VALUE=DATE:20240520
DTEND;VALUE=DATE:20240521
DTSTAMP:20260426T001611
CREATED:20240422T072914Z
LAST-MODIFIED:20240422T072914Z
UID:10608764-1716163200-1716249599@zorggroep-orion.be
SUMMARY:De Schoor is gesloten
DESCRIPTION:Op pinkstermaandag is De Schoor gesloten.
URL:https://zorggroep-orion.be/activiteit/de-schoor-is-gesloten-2/
LOCATION:Dienstencentrum De Schoor\, Schorvoortstraat 53\, Turnhout\, 2300
ATTACH;FMTTYPE=image/jpeg:https://zorggroep-orion.be/wp-content/uploads/2023/10/ACT-202311-GESLOTEN.jpg
END:VEVENT
BEGIN:VEVENT
DTSTART;TZID=Europe/Brussels:20240516T133000
DTEND;TZID=Europe/Brussels:20240516T170000
DTSTAMP:20260426T001611
CREATED:20240422T134735Z
LAST-MODIFIED:20240422T134735Z
UID:10608775-1715866200-1715878800@zorggroep-orion.be
SUMMARY:Crea: vilten creaties maken
DESCRIPTION:Kom je mee vilten creaties maken? Een tasje\, een brillenhoes\, … Onze crea-groep maakt weer heel wat mooie creaties\, dit keer vanuit wol met vilt. \nGelieve in te schrijven.
URL:https://zorggroep-orion.be/activiteit/crea-vilten-creaties-maken/
LOCATION:Dienstencentrum De Schoor\, Schorvoortstraat 53\, Turnhout\, 2300
CATEGORIES:Workshop
ATTACH;FMTTYPE=image/png:https://zorggroep-orion.be/wp-content/uploads/2024/04/act202405-crea-vilten.png
END:VEVENT
BEGIN:VEVENT
DTSTART;TZID=Europe/Brussels:20240514T120000
DTEND;TZID=Europe/Brussels:20240514T133000
DTSTAMP:20260426T001611
CREATED:20240422T075017Z
LAST-MODIFIED:20240422T075017Z
UID:10608766-1715688000-1715693400@zorggroep-orion.be
SUMMARY:Aspergemenu @ De Schoor
DESCRIPTION:Het is de tijd van de asperges! Kom genieten van een lekkere aspergemenu in ons dienstencentrum.\nWe starten met een aspergesoepje\, gevolgd door asperges op Vlaamse wijze met kruidenpuree en we sluiten af met een ijsje.\nHet eten wordt geserveerd om 12u. \nInschrijven verplicht\, dit kan vanaf woensdag 24/4 tot en met maandag 6/5 via deschoor@zorggroep-orion.be of 014 28 40 72.
URL:https://zorggroep-orion.be/activiteit/aspergemenu-de-schoor/
LOCATION:Dienstencentrum De Schoor\, Schorvoortstraat 53\, Turnhout\, 2300
CATEGORIES:Eten & Drinken
ATTACH;FMTTYPE=image/png:https://zorggroep-orion.be/wp-content/uploads/2022/03/2005act-ASPERGES.png
END:VEVENT
BEGIN:VEVENT
DTSTART;TZID=Europe/Brussels:20240507T090000
DTEND;TZID=Europe/Brussels:20240507T120000
DTSTAMP:20260426T001612
CREATED:20231220T103139Z
LAST-MODIFIED:20250417T201942Z
UID:10608434-1715072400-1715083200@zorggroep-orion.be
SUMMARY:Peuterspeelpunt
DESCRIPTION:Een ontmoetingsruimte waar mama’s\, papa’s\, grootouders en begeleiders met jongen kinderen tot 3 jaar samen komen spelen en sporten. De kindjes kunnen in een speelpunt wennen aan andere kinderen\, een andere omgeving en andere volwassenen. Zo wordt de stap naar de kleuterschool kleiner. \nOuders krijgen de kans om andere ouders te ontmoeten. Met vragen kan je terecht bij de begeleiders. \nDe kindjes krijgen een lekker stukje fruit en een glaasje water. Ouders\, grootouders en begeleiders krijgen koffie of thee. \n  \nTijdens vakanties zijn wij wat flexibeler met de leeftijdgrens.\nBroertjes en zusjes (kleuters tot 6 jaar) van onze bezoekers mogen dan mee naar het Peuterspeelpunt komen.
URL:https://zorggroep-orion.be/activiteit/peuterspeelpunt-6/
LOCATION:Dienstencentrum De Schoor\, Schorvoortstraat 53\, Turnhout\, 2300
CATEGORIES:Dienstverlening
ATTACH;FMTTYPE=image/jpeg:https://zorggroep-orion.be/wp-content/uploads/2023/07/act202307-Peuterspeelpunt.jpg
END:VEVENT
BEGIN:VEVENT
DTSTART;TZID=Europe/Brussels:20240507T090000
DTEND;TZID=Europe/Brussels:20240507T120000
DTSTAMP:20260426T001612
CREATED:20231220T103100Z
LAST-MODIFIED:20250417T202152Z
UID:10608433-1715072400-1715083200@zorggroep-orion.be
SUMMARY:Peuterspeelpunt
DESCRIPTION:Een ontmoetingsruimte waar mama’s\, papa’s\, grootouders en begeleiders met jongen kinderen tot 3 jaar samen komen spelen en sporten. De kindjes kunnen in een speelpunt wennen aan andere kinderen\, een andere omgeving en andere volwassenen. Zo wordt de stap naar de kleuterschool kleiner. Ouders krijgen de kans om andere ouders te ontmoeten. Met vragen kan je terecht bij de begeleiders. \nDe kindjes krijgen een lekker stukje fruit en een glaasje water. Ouders\, grootouders en begeleiders krijgen koffie of thee. \n  \nTijdens vakanties zijn wij wat flexibeler met de leeftijdgrens.\nBroertjes en zusjes (kleuters tot 6 jaar) van onze bezoekers mogen dan mee naar het Peuterspeelpunt komen.
URL:https://zorggroep-orion.be/activiteit/peuterspeelpunt-5/
LOCATION:Dienstencentrum De Schoor\, Schorvoortstraat 53\, Turnhout\, 2300
CATEGORIES:Dienstverlening
ATTACH;FMTTYPE=image/jpeg:https://zorggroep-orion.be/wp-content/uploads/2023/07/act202307-Peuterspeelpunt.jpg
END:VEVENT
BEGIN:VEVENT
DTSTART;TZID=Europe/Brussels:20240429T110000
DTEND;TZID=Europe/Brussels:20240429T120000
DTSTAMP:20260426T001612
CREATED:20240320T135515Z
LAST-MODIFIED:20240418T081259Z
UID:10608726-1714388400-1714392000@zorggroep-orion.be
SUMMARY:Care to dance
DESCRIPTION:Care to Dance organiseert bewegingslessen op muziek. We werken samen aan ritme\, balans\, coördinatie\, flexibiliteit en spierkracht. De lessen zijn toegankelijk voor iedereen met balans\, coördinatie of geheugenproblemen en in het bijzonder voor mensen die leven met de ziekte van Parkinson. Ervaar het plezier van samen dansen in een ongedwongen sfeer! Partners en begeleiders zijn altijd welkom om de lessen mee te volgen. \nDe lessen gaan niet door in de schoolvakanties. \n€3 voor personen met parkinson\n€6 voor de begeleiders
URL:https://zorggroep-orion.be/activiteit/care-to-dance/2024-04-29/
LOCATION:Dienstencentrum De Schoor\, Schorvoortstraat 53\, Turnhout\, 2300
CATEGORIES:Bewegen
ATTACH;FMTTYPE=image/png:https://zorggroep-orion.be/wp-content/uploads/2024/03/care-to-dance.png
END:VEVENT
BEGIN:VEVENT
DTSTART;TZID=Europe/Brussels:20240425T133000
DTEND;TZID=Europe/Brussels:20240425T170000
DTSTAMP:20260426T001612
CREATED:20240403T140150Z
LAST-MODIFIED:20240403T140150Z
UID:10608739-1714051800-1714064400@zorggroep-orion.be
SUMMARY:Crea: bloempotmannetjes verder afwerken
DESCRIPTION:De lente is in het land! Kom jij mee knutselen? Inschrijven is verplicht. \n€3 voor een klein mannetje\n€6 voor een groot mannetje\nAlle materialen zijn inbegrepen in de prijs.
URL:https://zorggroep-orion.be/activiteit/crea-bloempotmannetjes-verder-afwerken/
LOCATION:Dienstencentrum De Schoor\, Schorvoortstraat 53\, Turnhout\, 2300
CATEGORIES:Workshop
ATTACH;FMTTYPE=image/jpeg:https://zorggroep-orion.be/wp-content/uploads/2024/03/crea-april.jpg
END:VEVENT
BEGIN:VEVENT
DTSTART;VALUE=DATE:20240414
DTEND;VALUE=DATE:20240415
DTSTAMP:20260426T001612
CREATED:20240325T082503Z
LAST-MODIFIED:20240325T082503Z
UID:10608738-1713052800-1713139199@zorggroep-orion.be
SUMMARY:De Schoor is uitzonderlijk gesloten
DESCRIPTION:Ons café is op zondag 14 april uitzonderlijk gesloten.
URL:https://zorggroep-orion.be/activiteit/de-schoor-is-uitzonderlijk-gesloten/
LOCATION:Dienstencentrum De Schoor\, Schorvoortstraat 53\, Turnhout\, 2300
CATEGORIES:Goed om weten
ATTACH;FMTTYPE=image/jpeg:https://zorggroep-orion.be/wp-content/uploads/2023/10/ACT-202311-GESLOTEN.jpg
END:VEVENT
BEGIN:VEVENT
DTSTART;TZID=Europe/Brussels:20240411T140000
DTEND;TZID=Europe/Brussels:20240411T170000
DTSTAMP:20260426T001612
CREATED:20240320T143106Z
LAST-MODIFIED:20240403T140024Z
UID:10608727-1712844000-1712854800@zorggroep-orion.be
SUMMARY:Crea: bloempotmannetjes maken
DESCRIPTION:De lente is in het land! Kom jij mee knutselen? Inschrijven is verplicht. \n€3 voor een klein mannetje\n€6 voor een groot mannetje\nAlle materialen zijn inbegrepen in de prijs.
URL:https://zorggroep-orion.be/activiteit/crea/
LOCATION:Dienstencentrum De Schoor\, Schorvoortstraat 53\, Turnhout\, 2300
CATEGORIES:Workshop
ATTACH;FMTTYPE=image/jpeg:https://zorggroep-orion.be/wp-content/uploads/2024/03/crea-april.jpg
END:VEVENT
BEGIN:VEVENT
DTSTART;TZID=Europe/Brussels:20240411T133000
DTEND;TZID=Europe/Brussels:20240411T170000
DTSTAMP:20260426T001612
CREATED:20240321T151307Z
LAST-MODIFIED:20240321T151307Z
UID:10608729-1712842200-1712854800@zorggroep-orion.be
SUMMARY:Proefmoment Trixy Tripel alcoholvrij
DESCRIPTION:Kom op donderdag 11 april (tijdens DJ Staf) proeven van een nieuw alcoholvrij biertje.\nEr is een standje aanwezig waar je proefglaasjes kan bestellen voor €1.5/glas.
URL:https://zorggroep-orion.be/activiteit/proefmoment-trixy-tripel-alcoholvrij/
LOCATION:Dienstencentrum De Schoor\, Schorvoortstraat 53\, Turnhout\, 2300
CATEGORIES:Eten & Drinken
ATTACH;FMTTYPE=image/jpeg:https://zorggroep-orion.be/wp-content/uploads/2024/03/trixy-tripel.jpg
END:VEVENT
BEGIN:VEVENT
DTSTART;TZID=Europe/Brussels:20240410T140000
DTEND;TZID=Europe/Brussels:20240410T170000
DTSTAMP:20260426T001612
CREATED:20240320T125953Z
LAST-MODIFIED:20240320T125953Z
UID:10608631-1712757600-1712768400@zorggroep-orion.be
SUMMARY:Paasbingo
DESCRIPTION:Kom je deelnemen aan onze gezellige paasbingo?\n€3 voor een bundeltje van 6 kaarten. Extra bingokaartjes zijn ter plaatse te koop voor €0\,5/blaadje.
URL:https://zorggroep-orion.be/activiteit/paasbingo/
LOCATION:Dienstencentrum De Schoor\, Schorvoortstraat 53\, Turnhout\, 2300
CATEGORIES:Recreatie
ATTACH;FMTTYPE=image/jpeg:https://zorggroep-orion.be/wp-content/uploads/2024/03/Paasbingo.jpg
END:VEVENT
BEGIN:VEVENT
DTSTART;TZID=Europe/Brussels:20240402T170000
DTEND;TZID=Europe/Brussels:20240402T190000
DTSTAMP:20260426T001612
CREATED:20240220T075616Z
LAST-MODIFIED:20240220T075616Z
UID:10608566-1712077200-1712084400@zorggroep-orion.be
SUMMARY:Paasmenu
DESCRIPTION:Kom genieten van een lekker menu om te vieren dat de paasklokken weer in het land waren.\nWe beginnen met een aspergesoepje\, als hoofdgerecht serveren we konijn met pruimen met bruin bier en pommes duchesse en we sluiten af met rijstpap. \nInschrijven kan vanaf 1 maart tot 26 maart of tot de plaatsen volzet zijn.
URL:https://zorggroep-orion.be/activiteit/paasmenu/
LOCATION:Dienstencentrum De Schoor\, Schorvoortstraat 53\, Turnhout\, 2300
CATEGORIES:Eten & Drinken
ATTACH;FMTTYPE=image/jpeg:https://zorggroep-orion.be/wp-content/uploads/2024/02/act202403-smulact-pasen.jpg
END:VEVENT
BEGIN:VEVENT
DTSTART;TZID=Europe/Brussels:20240402T133000
DTEND;TZID=Europe/Brussels:20240414T170000
DTSTAMP:20260426T001612
CREATED:20240314T110829Z
LAST-MODIFIED:20240321T093730Z
UID:10608613-1712064600-1713114000@zorggroep-orion.be
SUMMARY:Coupe advocaat
DESCRIPTION:Gedurende de hele paasvakantie kan je komen genieten van een lekkere coupe advocaat. Voor de kinderen is er een ijsje met discobolletjes.
URL:https://zorggroep-orion.be/activiteit/coupe-advocaat/
LOCATION:Dienstencentrum De Schoor\, Schorvoortstraat 53\, Turnhout\, 2300
CATEGORIES:Eten & Drinken
ATTACH;FMTTYPE=image/png:https://zorggroep-orion.be/wp-content/uploads/2024/03/Ijscoupe-Pasen-1.png
END:VEVENT
BEGIN:VEVENT
DTSTART;TZID=Europe/Brussels:20240328T140000
DTEND;TZID=Europe/Brussels:20240328T170000
DTSTAMP:20260426T001612
CREATED:20240216T090211Z
LAST-MODIFIED:20240220T074021Z
UID:10608560-1711634400-1711645200@zorggroep-orion.be
SUMMARY:Crea op donderdag: paasdecoratie maken
DESCRIPTION:Laat de creatieveling in je los! Kom je mee je paasdecoratie maken? \nJe kan kiezen voor een mooi groot paasei of een paashaas. \nIndien je zelf niets van materiaal kan meebrengen is de prijs voor het paasei: €10\, voor een paashaas: €7. \nWe gaan van start op donderdag 7 maart en werken verder af op donderdag 28 maart. \n  \nVerplicht inschrijven bij de medewerkers!
URL:https://zorggroep-orion.be/activiteit/crea-op-donderdag-paasdecoratie-maken/
LOCATION:Dienstencentrum De Schoor\, Schorvoortstraat 53\, Turnhout\, 2300
CATEGORIES:Workshop
ATTACH;FMTTYPE=image/jpeg:https://zorggroep-orion.be/wp-content/uploads/2024/02/paascreaties.jpg
END:VEVENT
BEGIN:VEVENT
DTSTART;TZID=Europe/Brussels:20240321T080000
DTEND;TZID=Europe/Brussels:20240321T210000
DTSTAMP:20260426T001612
CREATED:20240221T111754Z
LAST-MODIFIED:20240221T130315Z
UID:10608577-1711008000-1711054800@zorggroep-orion.be
SUMMARY:Daguitstap ROTTERDAM @ LDC's
DESCRIPTION:Jaarlijkse daguitstap met de dienstencentra: Een dagtocht om U tegen te zeggen. Een ganse dag gevuld met entertainment\, zelfs met Havenrondvaart in Rotterdam. Met een gids toeren we door deze moderne stad. We ontdekken de markthallen\, we doen een vaart met de Spido om dan gezellig in groep te genieten van een volledig warme maaltijd. \nPrijs Incl. vervoer-gids-warme maaltijd-kleine snack in de bus! \nExcl. dranken en lunch in de markthallen (voor eigen rekening). \nInschrijven kan vanaf 1 maart – 9 u of online: \nLdc Albert Van Dyck – 014 28 40 70 \nDe Wissel – 014 28 40 71 \nDe Schoor – 014 28 40 72
URL:https://zorggroep-orion.be/activiteit/daguitstap-rotterdam-ldcs/
LOCATION:Dienstencentrum Albert Van Dyck\, Albert Van Dyckstraat 10\, Turnhout\, Antwerpen\, 2300\, Belgium
CATEGORIES:Uitstap
ATTACH;FMTTYPE=image/png:https://zorggroep-orion.be/wp-content/uploads/2024/02/Daguitstap-LDC-AVD-03-2024.png
END:VEVENT
BEGIN:VEVENT
DTSTART;TZID=Europe/Brussels:20240320T190000
DTEND;TZID=Europe/Brussels:20240320T200000
DTSTAMP:20260426T001612
CREATED:20240215T091242Z
LAST-MODIFIED:20240215T091242Z
UID:10608547-1710961200-1710964800@zorggroep-orion.be
SUMMARY:Infosessie - mijn wijkagent (Zevendonk)
DESCRIPTION:Ken jij jouw wijkagent? Weet jij waarvoor je precies bij hem terecht kan?\nOp woensdag 20 maart komt Tom Daniëls\, de wijkagent van Zevendonk\, naar het Antennepunt 7donk.\nHij zal zich even voorstellen\, toelichten waarvoor je bij hem terecht kan\, hoe je hem kan contacteren en nog heel wat meer.\nOok is er de mogelijkheid om vragen te stellen.
URL:https://zorggroep-orion.be/activiteit/infosessie-mijn-wijkagent-zevendonk/
LOCATION:Dienstencentrum De Schoor\, Schorvoortstraat 53\, Turnhout\, 2300
CATEGORIES:Infosessie
ATTACH;FMTTYPE=image/jpeg:https://zorggroep-orion.be/wp-content/uploads/2024/02/act202403-infosessie-wijkagent.jpg
END:VEVENT
BEGIN:VEVENT
DTSTART;TZID=Europe/Brussels:20240319T134500
DTEND;TZID=Europe/Brussels:20240319T150000
DTSTAMP:20260426T001612
CREATED:20231020T121856Z
LAST-MODIFIED:20240214T134337Z
UID:10607533-1710855900-1710860400@zorggroep-orion.be
SUMMARY:Pannenkoeken in De Schoor
DESCRIPTION:De leerlingen van VIBO De Brem bakken elke week verse pannenkoeken  in één van onze dienstencentra. Deze week is dienstencentrum De Schoor aan de beurt. Schuif mee aan! Inschrijven is niet nodig. €2 voor 2 pannenkoeken.
URL:https://zorggroep-orion.be/activiteit/pannenkoeken-in-de-schoor-3/
LOCATION:Dienstencentrum De Schoor\, Schorvoortstraat 53\, Turnhout\, 2300
CATEGORIES:Eten & Drinken
ATTACH;FMTTYPE=image/png:https://zorggroep-orion.be/wp-content/uploads/2023/03/202301-pannenkoeken.png
END:VEVENT
BEGIN:VEVENT
DTSTART;TZID=Europe/Brussels:20240313T093000
DTEND;TZID=Europe/Brussels:20240313T120000
DTSTAMP:20260426T001612
CREATED:20230725T123335Z
LAST-MODIFIED:20240215T125639Z
UID:10602171-1710322200-1710331200@zorggroep-orion.be
SUMMARY:Cursus kalligrafie
DESCRIPTION:Tijdens deze lessenreeks van 6 lessen leer je de basisprincipes van het kalligraferen. Het materiaal dat je nodig hebt zit mee inbegrepen in de prijs (je moet enkel een onderlegger en eventueel een schort meebrengen). \nLessen: 17/1\, 31/1\, 14/2\, 28/2\, 13/3 en 27/3. \nMomenteel is de cursus volzet\, maar je kan je op de lijst zetten voor een volgende keer.
URL:https://zorggroep-orion.be/activiteit/cursus-kalligrafie-6-2/
LOCATION:Dienstencentrum De Schoor\, Schorvoortstraat 53\, Turnhout\, 2300
CATEGORIES:Leren
ATTACH;FMTTYPE=image/jpeg:https://zorggroep-orion.be/wp-content/uploads/2023/07/act202307-Kalligrafie.jpg
END:VEVENT
BEGIN:VEVENT
DTSTART;TZID=Europe/Brussels:20240312T190000
DTEND;TZID=Europe/Brussels:20240312T210000
DTSTAMP:20260426T001612
CREATED:20240215T131119Z
LAST-MODIFIED:20240215T131119Z
UID:10608552-1710270000-1710277200@zorggroep-orion.be
SUMMARY:Gratis infosessie - gezonde darmen
DESCRIPTION:Tijdens deze infosessie geeft diëtiste Tanya \,van praktijk ARZO\, toelichting over een goede darmgezondheid. Ze gaat dieper in op feiten en fabels\, maar deelt vooral ook een hoop praktische en haalbare tips om thuis mee aan de slag te gaan. Inschrijven kan via activiteiten@praktijkarzo.be.
URL:https://zorggroep-orion.be/activiteit/gratis-infosessie-gezonde-darmen/
LOCATION:Dienstencentrum De Schoor\, Schorvoortstraat 53\, Turnhout\, 2300
CATEGORIES:Infosessie
ATTACH;FMTTYPE=image/jpeg:https://zorggroep-orion.be/wp-content/uploads/2024/02/act202403-infosessie-gezonde-darmen.jpg
END:VEVENT
BEGIN:VEVENT
DTSTART;TZID=Europe/Brussels:20240311T190000
DTEND;TZID=Europe/Brussels:20240311T200000
DTSTAMP:20260426T001612
CREATED:20240215T090953Z
LAST-MODIFIED:20240215T091020Z
UID:10608546-1710183600-1710187200@zorggroep-orion.be
SUMMARY:Infosessie - mijn wijkagent (Schorvoort)
DESCRIPTION:Ken jij jouw wijkagent? Weet jij waarvoor je precies bij hem terecht kan?\nOp maandag 11 maart komt Bob Dillen\, de wijkagent van Schorvoort\, naar De Schoor.\nHij zal zich even voorstellen\, toelichten waarvoor je bij hem terecht kan\, hoe je hem kan contacteren en nog heel wat meer.\nOok is er de mogelijkheid om vragen te stellen.
URL:https://zorggroep-orion.be/activiteit/infosessie-mijn-wijkagent/
LOCATION:Dienstencentrum De Schoor\, Schorvoortstraat 53\, Turnhout\, 2300
CATEGORIES:Infosessie
ATTACH;FMTTYPE=image/jpeg:https://zorggroep-orion.be/wp-content/uploads/2024/02/act202403-infosessie-wijkagent.jpg
END:VEVENT
BEGIN:VEVENT
DTSTART;TZID=Europe/Brussels:20240307T140000
DTEND;TZID=Europe/Brussels:20240307T170000
DTSTAMP:20260426T001612
CREATED:20240216T085600Z
LAST-MODIFIED:20240216T090032Z
UID:10608555-1709820000-1709830800@zorggroep-orion.be
SUMMARY:Crea op donderdag: Paasdecoratie maken
DESCRIPTION:Laat de creatieveling in je los! Kom je mee je Paasdecoratie maken? \nJe kan kiezen voor een mooi groot Paasei of een Paashaas. \nIndien je zelf niets van materiaal kan meebrengen is de prijs voor het Paasei: €10\, voor een Paashaas: €7. \nWe gaan van start op donderdag 7 maart en werken verder af op donderdag 28 maart. \n  \nVerplicht inschrijven bij de medewerkers!
URL:https://zorggroep-orion.be/activiteit/paascreatie/
LOCATION:Dienstencentrum De Schoor\, Schorvoortstraat 53\, Turnhout\, 2300
CATEGORIES:Workshop
ATTACH;FMTTYPE=image/jpeg:https://zorggroep-orion.be/wp-content/uploads/2024/02/paascreaties.jpg
END:VEVENT
BEGIN:VEVENT
DTSTART;TZID=Europe/Brussels:20240221T160000
DTEND;TZID=Europe/Brussels:20240221T190000
DTSTAMP:20260426T001612
CREATED:20240116T132819Z
LAST-MODIFIED:20240116T132819Z
UID:10608458-1708531200-1708542000@zorggroep-orion.be
SUMMARY:Bloeddonatie Rode Kruis
DESCRIPTION:Bloed geven redt levens! Maak het verschil en word bloeddonor.\nOp woensdag 21 februari kan je in Dienstencentrum De Schoor bloed komen geven. Zo’n bloedafname gebeurt altijd op een veilige manier door speciaal daarvoor opgeleide personen.\nInschrijven kan via QR-code. Heb je hulp nodig\, spring gerust even binnen in ons dienstencentrum.
URL:https://zorggroep-orion.be/activiteit/bloeddonatie-rode-kruis/
LOCATION:Dienstencentrum De Schoor\, Schorvoortstraat 53\, Turnhout\, 2300
CATEGORIES:Dienstverlening
ATTACH;FMTTYPE=image/png:https://zorggroep-orion.be/wp-content/uploads/2024/01/act202402-bloed-geven.png
END:VEVENT
BEGIN:VEVENT
DTSTART;TZID=Europe/Brussels:20240214T133000
DTEND;TZID=Europe/Brussels:20240214T170000
DTSTAMP:20260426T001612
CREATED:20240118T131409Z
LAST-MODIFIED:20240122T110153Z
UID:10608478-1707917400-1707930000@zorggroep-orion.be
SUMMARY:Sjoekesdag @ Antennepunt Zevendonk
DESCRIPTION:Valentijn\, de perfecte dag om uw sjoeke te vieren! Kom in het antennepunt in Zevendonk genieten van een lekkere eclair met een tasje koffie. Verkrijgbaar tijdens onze café-uren. Reserveer je sjoeke bij onze medewerkers.
URL:https://zorggroep-orion.be/activiteit/sjoekesdag-antennepunt-zevendonk/
LOCATION:Dienstencentrum De Schoor\, Schorvoortstraat 53\, Turnhout\, 2300
CATEGORIES:Eten & Drinken
ATTACH;FMTTYPE=image/png:https://zorggroep-orion.be/wp-content/uploads/2024/01/act202402-eclair-2.png
END:VEVENT
BEGIN:VEVENT
DTSTART;TZID=Europe/Brussels:20240214T133000
DTEND;TZID=Europe/Brussels:20240214T170000
DTSTAMP:20260426T001612
CREATED:20240118T130908Z
LAST-MODIFIED:20240122T110230Z
UID:10608477-1707917400-1707930000@zorggroep-orion.be
SUMMARY:Sjoekesdag @ De Schoor
DESCRIPTION:Valentijn\, de perfecte dag om uw sjoeke te vieren! Kom in ons dienstencentrum genieten van een lekkere eclair met een tasje koffie. Verkrijgbaar tijdens onze café-uren. Reserveer je sjoeke bij de medewerkers.
URL:https://zorggroep-orion.be/activiteit/sjoekesdag-de-schoor/
LOCATION:Dienstencentrum De Schoor\, Schorvoortstraat 53\, Turnhout\, 2300
CATEGORIES:Eten & Drinken
ATTACH;FMTTYPE=image/png:https://zorggroep-orion.be/wp-content/uploads/2024/01/act202402-eclair-2.png
END:VEVENT
BEGIN:VEVENT
DTSTART;TZID=Europe/Brussels:20240207T190000
DTEND;TZID=Europe/Brussels:20240207T203000
DTSTAMP:20260426T001612
CREATED:20240118T093419Z
LAST-MODIFIED:20240118T093419Z
UID:10608473-1707332400-1707337800@zorggroep-orion.be
SUMMARY:Gratis infosessie: Stoppen met roken... en volhouden
DESCRIPTION:Heb je goede voornemens voor het nieuwe jaar? Heb je al vaak geprobeerd te stoppen of minderen met roken? Helaas lukt het vaak niet alleen. Daarom willen wij samen met jou én een erkend tabakoloog werken aan je gezondheid in 2024. Je ontvangt informatie over stoppen met roken\, ook de mogelijkheid om in te schrijven voor een reeks van 8 (groeps)sessies. \nInschrijven kan via activiteiten@praktijkarzo.be (let op\, de plaatsen zijn beperkt).
URL:https://zorggroep-orion.be/activiteit/gratis-infosessie-stoppen-met-roken-en-volhouden/
LOCATION:Dienstencentrum De Schoor\, Schorvoortstraat 53\, Turnhout\, 2300
CATEGORIES:Infosessie
ATTACH;FMTTYPE=image/png:https://zorggroep-orion.be/wp-content/uploads/2024/01/act202402-Infosessie-rookstop-ARZO.png
END:VEVENT
BEGIN:VEVENT
DTSTART;TZID=Europe/Brussels:20240207T090000
DTEND;TZID=Europe/Brussels:20240207T170000
DTSTAMP:20260426T001612
CREATED:20240117T103220Z
LAST-MODIFIED:20240118T092505Z
UID:10608460-1707296400-1707325200@zorggroep-orion.be
SUMMARY:Start antennepunt Zevendonk
DESCRIPTION:Vanaf 7 februari zijn we ook elke woensdag geopend in de voorzaal van parochiecentrum Den Donk in Zevendonk.\nSpring zeker binnen bij zorg- en welzijnsvragen of voor gewoon een babbeltje. ’s Middags zullen er warme maaltijden zijn\, in de namiddag kan je blijven voor gezellige ontmoeting\, een drankje en heel wat activiteiten. \nIedereen welkom!
URL:https://zorggroep-orion.be/activiteit/start-antennepunt-zevendonk/
LOCATION:Dienstencentrum De Schoor\, Schorvoortstraat 53\, Turnhout\, 2300
CATEGORIES:Dienstverlening
ATTACH;FMTTYPE=image/png:https://zorggroep-orion.be/wp-content/uploads/2024/01/act202402-Zevendonk.png
END:VEVENT
BEGIN:VEVENT
DTSTART;TZID=Europe/Brussels:20240202T113000
DTEND;TZID=Europe/Brussels:20240202T123000
DTSTAMP:20260426T001612
CREATED:20240117T124051Z
LAST-MODIFIED:20240118T092105Z
UID:10608461-1706873400-1706877000@zorggroep-orion.be
SUMMARY:Multiculturele (voor)middag
DESCRIPTION:Op vrijdagvoormiddag komen dames van uiteenlopende culturen samen voor een gezellige babbel. Iedereen welkom!\nRegelmatig koken zij ook specifieke gerechtjes van hun cultuur. Heb je zin om mee aan tafel te schuiven? Hou onze Facebookpagina in de gaten\, want daar zetten we op wat er gekookt zal worden. Ze vragen telkens een bijdrage van €5 p.p.
URL:https://zorggroep-orion.be/activiteit/multiculturele-voormiddag/
LOCATION:Dienstencentrum De Schoor\, Schorvoortstraat 53\, Turnhout\, 2300
CATEGORIES:Eten & Drinken
ATTACH;FMTTYPE=image/png:https://zorggroep-orion.be/wp-content/uploads/2024/01/act202402-multicultureel-koken.png
END:VEVENT
BEGIN:VEVENT
DTSTART;TZID=Europe/Brussels:20240201T133000
DTEND;TZID=Europe/Brussels:20240201T170000
DTSTAMP:20260426T001612
CREATED:20240118T090341Z
LAST-MODIFIED:20240122T034801Z
UID:10608471-1706794200-1706806800@zorggroep-orion.be
SUMMARY:Tournée Minérale
DESCRIPTION:Ga de uitdaging aan en drink een maand lang geen alcohol. Ervaar op deze manier wat een maand zonder met je doet. We geven de voorzet en bieden in het lokaal dienstencentrum alcoholvrije wijntjes aan. Deze zijn elke dag verkrijgbaar in het café tijdens onze normale openingsuren. Laat ons weten welke jij de lekkerste vindt\, dan komt deze misschien ook wel mee op de kaart.
URL:https://zorggroep-orion.be/activiteit/tournee-minerale/
LOCATION:Dienstencentrum De Schoor\, Schorvoortstraat 53\, Turnhout\, 2300
CATEGORIES:Eten & Drinken
ATTACH;FMTTYPE=image/png:https://zorggroep-orion.be/wp-content/uploads/2024/01/act202402-Tournee-Minerale.png
END:VEVENT
END:VCALENDAR