BEGIN:VCALENDAR
VERSION:2.0
PRODID:-//Zorggroep Orion - ECPv6.15.17.1//NONSGML v1.0//EN
CALSCALE:GREGORIAN
METHOD:PUBLISH
X-WR-CALNAME:Zorggroep Orion
X-ORIGINAL-URL:https://zorggroep-orion.be
X-WR-CALDESC:Evenementen voor Zorggroep Orion
REFRESH-INTERVAL;VALUE=DURATION:PT1H
X-Robots-Tag:noindex
X-PUBLISHED-TTL:PT1H
BEGIN:VTIMEZONE
TZID:Europe/Brussels
BEGIN:DAYLIGHT
TZOFFSETFROM:+0100
TZOFFSETTO:+0200
TZNAME:CEST
DTSTART:20250330T010000
END:DAYLIGHT
BEGIN:STANDARD
TZOFFSETFROM:+0200
TZOFFSETTO:+0100
TZNAME:CET
DTSTART:20251026T010000
END:STANDARD
BEGIN:DAYLIGHT
TZOFFSETFROM:+0100
TZOFFSETTO:+0200
TZNAME:CEST
DTSTART:20260329T010000
END:DAYLIGHT
BEGIN:STANDARD
TZOFFSETFROM:+0200
TZOFFSETTO:+0100
TZNAME:CET
DTSTART:20261025T010000
END:STANDARD
BEGIN:DAYLIGHT
TZOFFSETFROM:+0100
TZOFFSETTO:+0200
TZNAME:CEST
DTSTART:20270328T010000
END:DAYLIGHT
BEGIN:STANDARD
TZOFFSETFROM:+0200
TZOFFSETTO:+0100
TZNAME:CET
DTSTART:20271031T010000
END:STANDARD
END:VTIMEZONE
BEGIN:VEVENT
DTSTART;TZID=Europe/Brussels:20260422T100000
DTEND;TZID=Europe/Brussels:20260429T113000
DTSTAMP:20260424T140439
CREATED:20260203T104730Z
LAST-MODIFIED:20260203T104730Z
UID:10624268-1776852000-1777462200@zorggroep-orion.be
SUMMARY:FRANSE CONVERSATIE @ DE WISSEL
DESCRIPTION:Heb je zin om je Franse vaardigheden wat op te frissen? Kom dan op woensdag tussen 10u00 en 11u30 uur langs in LDC De Wissel voor een praatje in het Frans. \nPrijs: €2\,00 inclusief koffie/thee
URL:https://zorggroep-orion.be/activiteit/franse-conversatie-de-wissel/2026-04-22/
LOCATION:Dienstencentrum De Wissel\, Dokter Nand Peetersstraat 33\, Turnhout\, Antwerpen\, 2300\, Belgium
CATEGORIES:Leren
ATTACH;FMTTYPE=image/png:https://zorggroep-orion.be/wp-content/uploads/2020/03/2003-act-frans-conversatie.png
END:VEVENT
BEGIN:VEVENT
DTSTART;TZID=Europe/Brussels:20260424T133000
DTEND;TZID=Europe/Brussels:20260424T170000
DTSTAMP:20260424T140439
CREATED:20260203T111336Z
LAST-MODIFIED:20260203T112328Z
UID:10624447-1777037400-1777050000@zorggroep-orion.be
SUMMARY:NAAIATELIER @ DE WISSEL
DESCRIPTION:Ben je creatief én handig? Dan ben je in ons naaiatelier aan het juiste adres! Hier leer je de kneepjes van het vak: van verstellen\, herstellen tot het maken van kleding. \nDoe inspiratie op en ontwikkel je vaardigheden onder begeleiding van een ervaren vrijwilligster. \nWanneer? Elke vrijdag in LDC De Wissel! \nIn de namiddag (13u30 – 17u00) is onze cafetaria open\, dan kan je hier een drankje bestellen.
URL:https://zorggroep-orion.be/activiteit/de-floeren-broek-de-wissel-2/2026-04-24/
LOCATION:Dienstencentrum De Wissel\, Dokter Nand Peetersstraat 33\, Turnhout\, Antwerpen\, 2300\, Belgium
CATEGORIES:Recreatie,Workshop
ATTACH;FMTTYPE=image/png:https://zorggroep-orion.be/wp-content/uploads/2023/03/Naaiatelier-2023.png
END:VEVENT
BEGIN:VEVENT
DTSTART;TZID=Europe/Brussels:20260424T133000
DTEND;TZID=Europe/Brussels:20260424T170000
DTSTAMP:20260424T140439
CREATED:20260203T113117Z
LAST-MODIFIED:20260203T113211Z
UID:10622701-1777037400-1777050000@zorggroep-orion.be
SUMMARY:SPELLETJESNAMIDDAG @ DE WISSEL
DESCRIPTION:Tijdens de openingsuren van de cafetaria in LDC De Wissel kun je gezellig spelletjes komen spelen. We hebben en kast vol verschillende spelletjes die je gratis kunt spelen in ons café.
URL:https://zorggroep-orion.be/activiteit/spelletjesnamiddag-de-wissel-4-2/2026-04-24/
LOCATION:Dienstencentrum De Wissel\, Dokter Nand Peetersstraat 33\, Turnhout\, Antwerpen\, 2300\, Belgium
CATEGORIES:Recreatie
ATTACH;FMTTYPE=image/jpeg:https://zorggroep-orion.be/wp-content/uploads/2024/11/LDC-De-Wissel-spelletjesnamiddag-ism-inloophuis-dementie.jpg
END:VEVENT
BEGIN:VEVENT
DTSTART;TZID=Europe/Brussels:20260424T133000
DTEND;TZID=Europe/Brussels:20260424T170000
DTSTAMP:20260424T140439
CREATED:20260203T114242Z
LAST-MODIFIED:20260203T114525Z
UID:10625251-1777037400-1777050000@zorggroep-orion.be
SUMMARY:GEZELSCHAPSSPELLETJES
DESCRIPTION:Tijdens de openingsuren van ons cafetaria LDC De Wissel\, kun je gratis spelletjes spelen. We hebben een kast vol met spelletjes voor elke leeftijd.
URL:https://zorggroep-orion.be/activiteit/gezelschapsspelletjes/2026-04-24/
LOCATION:Dienstencentrum De Wissel\, Dokter Nand Peetersstraat 33\, Turnhout\, Antwerpen\, 2300\, Belgium
CATEGORIES:Recreatie
ATTACH;FMTTYPE=image/jpeg:https://zorggroep-orion.be/wp-content/uploads/2024/11/LDC-De-Wissel-spelletjesnamiddag-ism-inloophuis-dementie.jpg
END:VEVENT
BEGIN:VEVENT
DTSTART;TZID=Europe/Brussels:20260426T090000
DTEND;TZID=Europe/Brussels:20260426T120000
DTSTAMP:20260424T140439
CREATED:20260327T110443Z
LAST-MODIFIED:20260403T114444Z
UID:10626774-1777194000-1777204800@zorggroep-orion.be
SUMMARY:Familiebrunch Oudercomité Chiro Don Bosco
DESCRIPTION:Op zondag 26 april organiseert het oudercomité van Chiro Don Bosco een brunch in De Wissel!\nGeen betere manier om je zondag te beginnen dan met een heerlijke brunch. \nVan 9u tot 12u ben je welkom om aan te schuiven!\nKostprijs: \n\nKinderen < 12 jaar: €10\nVolwassenen > 12 jaar: €15\n\nVOLZET! Inschrijven voor de familiebrunch is dus\, jammer genoeg\, niet meer mogelijk. \n 
URL:https://zorggroep-orion.be/activiteit/familiebrunch-oudercomite-chiro-don-bosco/
LOCATION:Dienstencentrum De Wissel\, Dokter Nand Peetersstraat 33\, Turnhout\, Antwerpen\, 2300\, Belgium
CATEGORIES:Eten & Drinken
ATTACH;FMTTYPE=image/jpeg:https://zorggroep-orion.be/wp-content/uploads/2026/03/Familiebrunch-Oudercomite-Chiro-Don-Bosco-scaled.jpg
END:VEVENT
BEGIN:VEVENT
DTSTART;TZID=Europe/Brussels:20260427T080000
DTEND;TZID=Europe/Brussels:20260427T170000
DTSTAMP:20260424T140439
CREATED:20250827T101603Z
LAST-MODIFIED:20260204T140908Z
UID:10619652-1777276800-1777309200@zorggroep-orion.be
SUMMARY:PEDICURE @ DE WISSEL
DESCRIPTION:Pedicure en/of manicure in LDC De Wissel! Heidi\, zal jullie met de beste zorg soigneren. \nWanneer: Wekelijks op maandag in LDC De Wissel \nEnkel op afspraak: een afspraak kan je maken met Heidi Van Rooy (Pedicure) via het nummer: 0498 56 36 00. \nDuur behandeling: +/- 45 minuten per behandeling \nBetaling: ter plaatse te betalen (geen bankcontact of payconiq)
URL:https://zorggroep-orion.be/activiteit/pedicure-de-wissel/2026-04-27/
LOCATION:Dienstencentrum De Wissel\, Dokter Nand Peetersstraat 33\, Turnhout\, Antwerpen\, 2300\, Belgium
CATEGORIES:Dienstverlening
ATTACH;FMTTYPE=image/png:https://zorggroep-orion.be/wp-content/uploads/2024/05/PEDICURE-LDC-AVD-2024.png
END:VEVENT
BEGIN:VEVENT
DTSTART;TZID=Europe/Brussels:20260427T120000
DTEND;TZID=Europe/Brussels:20260427T130000
DTSTAMP:20260424T140439
CREATED:20260327T111920Z
LAST-MODIFIED:20260327T112307Z
UID:10626782-1777291200-1777294800@zorggroep-orion.be
SUMMARY:SOEP MET BABBELS @ TURNHOUT-OOST
DESCRIPTION:Woon jij in Turnhout-Oost? Wil je je buren ontmoeten of met bekende een babbeltje slaan? Schuif dan om 12u mee aan voor een bord verse soep tijdens de activiteit ‘soep met babbels’ \nWanneer? We treffen elkaar elke 2 weken op maandag. \nVolgend soepmoment: \n\nMaandag 27 april\n\nPrijs? €3\,00 (inclusief 2 tassen soep met brood) \nWaar? PC Goddelijk Kind – zaal achteraan – Meuletiende – Turnhout \nWees welkom & breng gerust nog een buur mee!
URL:https://zorggroep-orion.be/activiteit/soep-met-babbels-turnhout-oost-5/
LOCATION:Dienstencentrum De Wissel\, Dokter Nand Peetersstraat 33\, Turnhout\, Antwerpen\, 2300\, Belgium
CATEGORIES:Eten & Drinken
ATTACH;FMTTYPE=image/png:https://zorggroep-orion.be/wp-content/uploads/2024/11/SOEP-12-LDC-AVD-2024.png
END:VEVENT
BEGIN:VEVENT
DTSTART;TZID=Europe/Brussels:20260427T133000
DTEND;TZID=Europe/Brussels:20260427T170000
DTSTAMP:20260424T140439
CREATED:20260327T102206Z
LAST-MODIFIED:20260327T102206Z
UID:10626771-1777296600-1777309200@zorggroep-orion.be
SUMMARY:BREICAFE @ DE WISSEL
DESCRIPTION:Wil je graag zelf die leuke pull of vest breien\, maar durf je er niet alleen aan te beginnen? Of hou je meer van borduren of ander handwerk? In ons breicafé ben je om de twee weken welkom op maandagnamiddag. \n\nMaandag 13 april\nMaandag 27 april\n\nAnnemie is een zeer ervaren vrijwilligster die jou met plezier op weg helpt.
URL:https://zorggroep-orion.be/activiteit/breicafe-de-wissel-7/
LOCATION:Dienstencentrum De Wissel\, Dokter Nand Peetersstraat 33\, Turnhout\, Antwerpen\, 2300\, Belgium
CATEGORIES:Workshop
ATTACH;FMTTYPE=image/png:https://zorggroep-orion.be/wp-content/uploads/2023/01/1900act-Babbel-en-breicafe.png
END:VEVENT
BEGIN:VEVENT
DTSTART;TZID=Europe/Brussels:20260428T133000
DTEND;TZID=Europe/Brussels:20260428T170000
DTSTAMP:20260424T140439
CREATED:20260203T102925Z
LAST-MODIFIED:20260203T102925Z
UID:10624213-1777383000-1777395600@zorggroep-orion.be
SUMMARY:Kaarten@De Wissel
DESCRIPTION:Elke dinsdagnamiddag worden de kaarten bovengehaald voor een spelletje kaarten in onze cafetaria.
URL:https://zorggroep-orion.be/activiteit/kaartende-wissel/2026-04-28/
LOCATION:Dienstencentrum De Wissel\, Dokter Nand Peetersstraat 33\, Turnhout\, Antwerpen\, 2300\, Belgium
CATEGORIES:Recreatie
ATTACH;FMTTYPE=image/jpeg:https://zorggroep-orion.be/wp-content/uploads/2021/08/Orion_zorggroep_lr-319.jpg
END:VEVENT
BEGIN:VEVENT
DTSTART;TZID=Europe/Brussels:20260429T100000
DTEND;TZID=Europe/Brussels:20260429T113000
DTSTAMP:20260424T140439
CREATED:20250219T103910Z
LAST-MODIFIED:20250828T073449Z
UID:10619547-1777456800-1777462200@zorggroep-orion.be
SUMMARY:ONTMOET JE BUUR @ DE WISSEL
DESCRIPTION:Onder het motto ‘Ontmoet je buren’ komen we elke woensdagvoormiddag samen in het café van LDC De Wissel. \nHeb jij ook nood aan een babbel\, ontmoeting\, sociaal contact\, …? Dan ben je meer dan welkom! \nOnze deur staat open voor jou! Kom gerust eens langs en voor zij die willen staat er een tasje koffie of thee klaar voor €1\,00. \nWanneer? Elke woensdag! Dit telkens vanaf 10u00
URL:https://zorggroep-orion.be/activiteit/ontmoet-je-buurde-wissel-2-2/2026-04-29/
LOCATION:Dienstencentrum De Wissel\, Dokter Nand Peetersstraat 33\, Turnhout\, Antwerpen\, 2300\, Belgium
CATEGORIES:Dienstverlening
ATTACH;FMTTYPE=image/png:https://zorggroep-orion.be/wp-content/uploads/2023/03/Ontmoet-je-buur-2023.png
END:VEVENT
BEGIN:VEVENT
DTSTART;TZID=Europe/Brussels:20260429T133000
DTEND;TZID=Europe/Brussels:20260429T160000
DTSTAMP:20260424T140439
CREATED:20260317T133006Z
LAST-MODIFIED:20260317T133006Z
UID:10626759-1777469400-1777478400@zorggroep-orion.be
SUMMARY:FIETSEN @ DE WISSEL
DESCRIPTION:Elke week trapt een enthousiast groepje samen de pedalen rond en iedereen is welkom om mee aan te sluiten! Of je nu een doorgewinterde fietser bent of gewoon zin hebt in wat frisse lucht en gezellig gezelschap: samen fietsen maakt het nét dat tikkeltje leuker. \nDus spring op je fiets en rij mee – hoe meer zielen\, hoe meer fietsplezier \nSamenkomst elke woensdag om 13u30 in LDC De Wissel. \nPrijs: €2\,00 inclusief een tasje koffie/thee
URL:https://zorggroep-orion.be/activiteit/fietsen-de-wissel-6/
LOCATION:Dienstencentrum De Wissel\, Dokter Nand Peetersstraat 33\, Turnhout\, Antwerpen\, 2300\, Belgium
CATEGORIES:Bewegen
ATTACH;FMTTYPE=image/jpeg:https://zorggroep-orion.be/wp-content/uploads/2025/08/20240410_133324-scaled.jpg
END:VEVENT
BEGIN:VEVENT
DTSTART;TZID=Europe/Brussels:20260429T133000
DTEND;TZID=Europe/Brussels:20260429T163000
DTSTAMP:20260424T140439
CREATED:20260327T110613Z
LAST-MODIFIED:20260327T111005Z
UID:10626775-1777469400-1777480200@zorggroep-orion.be
SUMMARY:Karaoke met Guy@ De Wissel
DESCRIPTION:Zin om je zangtalent te laten horen of zing je liever gezellig mee vanop je stoel? \nKom dan op woensdag 29 april naar de cafetaria van De Wissel voor een namiddag vol muziek en plezier!\nOf je nu een echt podiumbeest bent of gewoon komt genieten van de fijne sfeer en bekende meezingers: iedereen is welkom!
URL:https://zorggroep-orion.be/activiteit/karaoke-met-guy-de-wissel-2/
LOCATION:Dienstencentrum De Wissel\, Dokter Nand Peetersstraat 33\, Turnhout\, Antwerpen\, 2300\, Belgium
CATEGORIES:Muziek
ATTACH;FMTTYPE=image/jpeg:https://zorggroep-orion.be/wp-content/uploads/2026/02/guy.jpeg
END:VEVENT
BEGIN:VEVENT
DTSTART;TZID=Europe/Brussels:20260430T090000
DTEND;TZID=Europe/Brussels:20260430T170000
DTSTAMP:20260424T140439
CREATED:20260203T111115Z
LAST-MODIFIED:20260203T112442Z
UID:10624394-1777539600-1777568400@zorggroep-orion.be
SUMMARY:NAAIATELIER @ DE WISSEL
DESCRIPTION:Ben je creatief én handig? Dan ben je in ons naaiatelier aan het juiste adres! Hier leer je de kneepjes van het vak: van verstellen\, herstellen tot het maken van kleding. \nDoe inspiratie op en ontwikkel je vaardigheden onder begeleiding van een ervaren vrijwilligster. \nWanneer? Elke donderdag in LDC De Wissel vanaf 9u00 tot 17u00! \nOp donderdagvoormiddag (9u00 – 12u00) betaal je €2\,00 inclusief koffie en thee. \nIn de namiddag (13u30 – 17u00) is onze cafetaria open\, dan kan je hier een drankje bestellen.
URL:https://zorggroep-orion.be/activiteit/de-floeren-broek-de-wissel/2026-04-30/
LOCATION:Dienstencentrum De Wissel\, Dokter Nand Peetersstraat 33\, Turnhout\, Antwerpen\, 2300\, Belgium
CATEGORIES:Recreatie,Workshop
ATTACH;FMTTYPE=image/png:https://zorggroep-orion.be/wp-content/uploads/2023/03/Naaiatelier-2023.png
END:VEVENT
BEGIN:VEVENT
DTSTART;TZID=Europe/Brussels:20260430T100000
DTEND;TZID=Europe/Brussels:20260430T110000
DTSTAMP:20260424T140439
CREATED:20250828T074328Z
LAST-MODIFIED:20250828T074328Z
UID:10619714-1777543200-1777546800@zorggroep-orion.be
SUMMARY:OCHTENDGYM @ DE WISSEL
DESCRIPTION:Rust Roest? Gelukkig niet bij De Wissel! Zowel zittend als staand trainen we onze spieren en trachten we onze gewrichten soepel te houden. Nadien zijn we volledig ontspannen ondanks het inspannen. \nPraktisch: \n\nWekelijks op donderdagvoormiddag 10u00 – 11u00\nLocatie: lokaal De Wagon\n€2\,00 inclusief koffie/thee\nInschrijven is niet nodig!
URL:https://zorggroep-orion.be/activiteit/ochtendgym-de-wissel/2026-04-30/
LOCATION:Dienstencentrum De Wissel\, Dokter Nand Peetersstraat 33\, Turnhout\, Antwerpen\, 2300\, Belgium
CATEGORIES:Bewegen
ATTACH;FMTTYPE=image/jpeg:https://zorggroep-orion.be/wp-content/uploads/2025/08/Ochtendgym-2025.jpg
END:VEVENT
BEGIN:VEVENT
DTSTART;TZID=Europe/Brussels:20260430T140000
DTEND;TZID=Europe/Brussels:20260430T170000
DTSTAMP:20260424T140439
CREATED:20260327T100725Z
LAST-MODIFIED:20260327T100725Z
UID:10626765-1777557600-1777568400@zorggroep-orion.be
SUMMARY:SMULLEN OP DONDERDAG @ DE WISSEL
DESCRIPTION:Elke donderdagnamiddag toveren we onze cafetaria om tot een plek vol gezelligheid en lekkers. Kom langs\, schuif aan en geniet samen met ons van zoete of hartige verwennerijen. \nJe bent welkom vanaf 14u00! \nDit staat er op de planning: \n\nDonderdag 2 april\nDonderdag 9 april\nDonderdag 16 april\nDonderdag 23 april\nDonderdag 30 april\n\nKom mee smullen\, genieten en lekker bijpraten!
URL:https://zorggroep-orion.be/activiteit/smullen-op-donderdag-de-wissel-10/
LOCATION:Dienstencentrum De Wissel\, Dokter Nand Peetersstraat 33\, Turnhout\, Antwerpen\, 2300\, Belgium
CATEGORIES:Eten & Drinken
ATTACH;FMTTYPE=image/jpeg:https://zorggroep-orion.be/wp-content/uploads/2025/09/Smullen-op-donderdag-102025.jpg
END:VEVENT
BEGIN:VEVENT
DTSTART;TZID=Europe/Brussels:20260504T143000
DTEND;TZID=Europe/Brussels:20260504T160000
DTSTAMP:20260424T140439
CREATED:20260420T135947Z
LAST-MODIFIED:20260420T135947Z
UID:10627146-1777905000-1777910400@zorggroep-orion.be
SUMMARY:LEZING: SLECHTHORENDHEID @DeWissel I.S.M Davidsfonds
DESCRIPTION:Horen\, zien en luisteren” zegt men. Eigenlijk bedoelt men ‘begrijpen’\, maar ‘begrijpen’ kan niet zonder ‘luisteren’ en ‘luisteren’ kan niet zonder ‘horen’. ‘Horen’ is essentieel voor onze ontwikkeling\, ook voor ons sociaal welbehagen speelt goed horen een belangrijke rol. \nIn deze lezing leer je wat er te pas komt bij ‘horen’\, wat de oorzaken (kunnen) zijn van ‘slecht horen’ en hoe bepaalde oplossingen onze zintuigelijke waarneming kunnen ondersteunen. \nNa deze lezing ben je geen leek meer bij een audiologisch onderzoek en kan je een afweging maken welke technologische oplossing (cfr hoorapparaat) eventueel voor jou een voordeel zou kunnen opleveren. \n\nSchrijf je in via De Wissel\nPrijs: €3\,00 inclusief koffie\nWaar: LDC De Wissel\, Dokter Nand Peetersstraat 35\, 2300 Turnhout
URL:https://zorggroep-orion.be/activiteit/lezing-slechthorendheid-dewissel-i-s-m-davidsfonds/
LOCATION:Dienstencentrum De Wissel\, Dokter Nand Peetersstraat 33\, Turnhout\, Antwerpen\, 2300\, Belgium
CATEGORIES:Infosessie
ATTACH;FMTTYPE=image/png:https://zorggroep-orion.be/wp-content/uploads/2026/04/Slechthorendheid.png
END:VEVENT
BEGIN:VEVENT
DTSTART;TZID=Europe/Brussels:20260506T140000
DTEND;TZID=Europe/Brussels:20260506T153000
DTSTAMP:20260424T140439
CREATED:20260420T140324Z
LAST-MODIFIED:20260420T140324Z
UID:10627147-1778076000-1778081400@zorggroep-orion.be
SUMMARY:INNOVATIECAFE - hulpmiddelen voor zelfstandig wonen
DESCRIPTION:Ken je het gevoel dat je hulp moet vragen voor de simpelste taakjes (bv. het schillen & snijden van fruit en groenten\, opstaan uit je bed\, …)? Wist je dat er heel wat praktische en alledaagse hulpmiddelen bestaan die je hierbij kunnen ondersteunen? \nWaar je deze kan vinden en hoe ze je kunnen helpen\, leggen 3 studenten Health Care Management je graag uit tijdens dit innovatiecafé. \nJe maakt kennis met verschillende eenvoudige fysieke hulpmiddelen\, die bijdragen aan meer zelfstandigheid\, veiligheid en comfort in het dagelijks leven. Daarnaast staan er ook een aantal toegankelijke proefjes en interactiemomenten op het programma. \nInteresse? \nDan ben je van harte welkom op woensdag 6 mei\, van 14u tot 15u30\, voor een namiddag vol informatie\, vragen\, interessante babbels en een drankje! \ninschrijven is niet nodig!
URL:https://zorggroep-orion.be/activiteit/innovatiecafe-hulpmiddelen-voor-zelfstandig-wonen/
LOCATION:Dienstencentrum De Wissel\, Dokter Nand Peetersstraat 33\, Turnhout\, Antwerpen\, 2300\, Belgium
CATEGORIES:Infosessie
ATTACH;FMTTYPE=image/jpeg:https://zorggroep-orion.be/wp-content/uploads/2025/09/Innovatiecafe-102025-1.jpg
END:VEVENT
BEGIN:VEVENT
DTSTART;TZID=Europe/Brussels:20260507T140000
DTEND;TZID=Europe/Brussels:20260507T160000
DTSTAMP:20260424T140440
CREATED:20260420T140446Z
LAST-MODIFIED:20260420T140446Z
UID:10627148-1778162400-1778169600@zorggroep-orion.be
SUMMARY:BINGO @ DE WISSEL
DESCRIPTION:Een gezellige bingonamiddag in LDC De Wissel! \nKoop een bingokaart\, streep de nummers af\, en wie weet roep jij straks luidkeels BINGO! En ga je naar huis met een geweldige prijs! \nPrijs: € 0\,75 per bingokaart \nVoor meer info: dewissel@zorggroep-orion.be of 014 28 40 71 \n 
URL:https://zorggroep-orion.be/activiteit/bingo-de-wissel-5/
LOCATION:Dienstencentrum De Wissel\, Dokter Nand Peetersstraat 33\, Turnhout\, Antwerpen\, 2300\, Belgium
CATEGORIES:Recreatie
ATTACH;FMTTYPE=image/png:https://zorggroep-orion.be/wp-content/uploads/2023/03/act-2021-Bingo.png
END:VEVENT
BEGIN:VEVENT
DTSTART;TZID=Europe/Brussels:20260513T120000
DTEND;TZID=Europe/Brussels:20260513T140000
DTSTAMP:20260424T140440
CREATED:20260420T140932Z
LAST-MODIFIED:20260420T140932Z
UID:10627149-1778673600-1778680800@zorggroep-orion.be
SUMMARY:Beuling met appelmoes @DeWissel
DESCRIPTION:Kom mee genieten van lekkere beuling met appelmoes en brood bij LDC De Wissel! \nOnze fantastische vrijwilligers staan met veel liefde en enthousiasme in de keuken om deze maaltijd voor jullie klaar te maken. Breng familie\, vrienden of buren mee en schuif gezellig aan! \nInschrijven kan bij LDC De Wissel t.e.m. 08/05/2026. \nVOL = VOL
URL:https://zorggroep-orion.be/activiteit/beuling-met-appelmoes-dewissel/
LOCATION:Dienstencentrum De Wissel\, Dokter Nand Peetersstraat 33\, Turnhout\, Antwerpen\, 2300\, Belgium
CATEGORIES:Eten & Drinken
ATTACH;FMTTYPE=image/jpeg:https://zorggroep-orion.be/wp-content/uploads/2026/04/20250514_111730-scaled.jpg
END:VEVENT
BEGIN:VEVENT
DTSTART;TZID=Europe/Brussels:20260518T120000
DTEND;TZID=Europe/Brussels:20260518T133000
DTSTAMP:20260424T140440
CREATED:20260420T141332Z
LAST-MODIFIED:20260420T141332Z
UID:10627151-1779105600-1779111000@zorggroep-orion.be
SUMMARY:POP-UP SOEP @DEWISSEL
DESCRIPTION:Onze enthousiaste vrijwilligers toveren hun kooktalenten weer tevoorschijn en verwennen jullie met dampende\, verse soep. Wij serveren deze heerlijke soep met brood. \nInschrijven is niet nodig\, dus schuif gezellig aan! \nDe opbrengst schenken we aan een goed doel! \nPrijs: €3\,00 voor soep met brood (inclusief 2 tassen soep)
URL:https://zorggroep-orion.be/activiteit/pop-up-soep-dewissel/
LOCATION:Dienstencentrum De Wissel\, Dokter Nand Peetersstraat 33\, Turnhout\, Antwerpen\, 2300\, Belgium
CATEGORIES:Eten & Drinken
ATTACH;FMTTYPE=image/jpeg:https://zorggroep-orion.be/wp-content/uploads/2023/12/Soepdag.jpg
END:VEVENT
BEGIN:VEVENT
DTSTART;TZID=Europe/Brussels:20260519T140000
DTEND;TZID=Europe/Brussels:20260519T160000
DTSTAMP:20260424T140440
CREATED:20260420T141448Z
LAST-MODIFIED:20260420T141448Z
UID:10627152-1779199200-1779206400@zorggroep-orion.be
SUMMARY:PANNENKOEKEN VIBO DE BREM @ DE WISSEL
DESCRIPTION:De leerlingen van VIBO De Brem trekken weer de keuken in en bakken verse\, pannenkoeken in onze dienstencentra. Deze keer is LDC De Wissel aan de beurt! \nInschrijven is niet nodig! \nPrijs: €3\,00 voor 2 pannenkoeken
URL:https://zorggroep-orion.be/activiteit/pannenkoeken-vibo-de-brem-de-wissel-5/
LOCATION:Dienstencentrum De Wissel\, Dokter Nand Peetersstraat 33\, Turnhout\, Antwerpen\, 2300\, Belgium
CATEGORIES:Eten & Drinken
ATTACH;FMTTYPE=image/png:https://zorggroep-orion.be/wp-content/uploads/2023/03/202301-pannenkoeken.png
END:VEVENT
BEGIN:VEVENT
DTSTART;TZID=Europe/Brussels:20260522T140000
DTEND;TZID=Europe/Brussels:20260522T160000
DTSTAMP:20260424T140440
CREATED:20260420T141755Z
LAST-MODIFIED:20260420T141755Z
UID:10627153-1779458400-1779465600@zorggroep-orion.be
SUMMARY:SINGER SONGWRITER DEN ED @ DE WISSEL
DESCRIPTION:Kom genieten van een gezellige en muzikale namiddag met ‘Den Ed’ in de cafetaria!  \nMet zijn akoestische gitaar en mondharmonica brengt hij een heerlijke sfeer naar het dienstencentrum. Of je nu houdt van rustige melodieën of vrolijke deuntjes\, Den Ed zorgt met zijn muziek voor een ontspannen sfeer.
URL:https://zorggroep-orion.be/activiteit/singer-songwriter-den-ed-de-wissel/
LOCATION:Dienstencentrum De Wissel\, Dokter Nand Peetersstraat 33\, Turnhout\, Antwerpen\, 2300\, Belgium
CATEGORIES:Muziek
ATTACH;FMTTYPE=image/png:https://zorggroep-orion.be/wp-content/uploads/2026/04/Den-Ed.png
END:VEVENT
BEGIN:VEVENT
DTSTART;TZID=Europe/Brussels:20260527T133000
DTEND;TZID=Europe/Brussels:20260527T163000
DTSTAMP:20260424T140440
CREATED:20260420T142045Z
LAST-MODIFIED:20260420T142045Z
UID:10627154-1779888600-1779899400@zorggroep-orion.be
SUMMARY:Karaoke met Guy@ De Wissel
DESCRIPTION:Zin om je zangtalent te laten horen of zing je liever gezellig mee vanop je stoel? \nKom dan op woensdag 27 mei naar de cafetaria van De Wissel voor een namiddag vol muziek en plezier!\nOf je nu een echt podiumbeest bent of gewoon komt genieten van de fijne sfeer en bekende meezingers: iedereen is welkom!
URL:https://zorggroep-orion.be/activiteit/karaoke-met-guy-de-wissel-3/
LOCATION:Dienstencentrum De Wissel\, Dokter Nand Peetersstraat 33\, Turnhout\, Antwerpen\, 2300\, Belgium
CATEGORIES:Muziek
ATTACH;FMTTYPE=image/jpeg:https://zorggroep-orion.be/wp-content/uploads/2026/02/guy.jpeg
END:VEVENT
BEGIN:VEVENT
DTSTART;TZID=Europe/Brussels:20260529T090000
DTEND;TZID=Europe/Brussels:20260605T170000
DTSTAMP:20260424T140440
CREATED:20260420T070511Z
LAST-MODIFIED:20260420T185507Z
UID:10627137-1780045200-1780678800@zorggroep-orion.be
SUMMARY:FOTOZOEKTOCHT 'THUIS IN TURNHOUT' @ Dienstencentra
DESCRIPTION:Fotozoektocht voor iedereen!\nWij organiseren een leuke en toegankelijke fotozoektocht voor iedereen: jong en oud\, groot en klein\, mobiel en minder mobiel. Iedereen is welkom om deel te nemen!\nDe zoektocht speelt zich af tussen drie dienstencentra (Albert Van Dyck\, De Schoor en De Wissel). Onderweg kan je telkens even pauzeren en genieten van iets lekkers. \nJe kan kiezen tussen twee soorten fotozoektochten:\n\nWandel- of fietszoektocht: een traject tussen de drie dienstencentra\, met foto’s die je onderweg moet terugvinden.\n\nKorte fotozoektocht: deze vindt plaats aan en rond de drie dienstencentra.\n\n\nZo kan iedereen op zijn eigen tempo deelnemen en gezellig samen zoeken én genieten.\nPraktische info:\n\nVan vrijdag 29 mei t.e.m. vrijdag 5 juni\nElke namiddag tussen 14u en 17u\n\nDeelnameformulieren liggen klaar in elk lokaal dienstencentrum.\nHeb je vervoer nodig tussen de dienstencentra? Laat dit dan vooraf even weten (dag en uur)\, dan zorgen wij voor een oplossing.\n \nHet wordt een fijne samenwerking tussen:\nZorggroep Orion\nFotoclub Turnhout\nSeniorenraad Turnhout\nStad Turnhout (Thuis in Turnhout)
URL:https://zorggroep-orion.be/activiteit/fotozoektocht-thuis-in-turnhout-3-dienstencentra/
LOCATION:Dienstencentrum Albert Van Dyck\, Albert Van Dyckstraat 10\, Turnhout\, Antwerpen\, 2300\, Belgium
CATEGORIES:Recreatie
ATTACH;FMTTYPE=image/png:https://zorggroep-orion.be/wp-content/uploads/2026/04/FOTOZOEKTOCHT-MEI-LDC-s-2026.png
END:VEVENT
BEGIN:VEVENT
DTSTART;TZID=Europe/Brussels:20260529T140000
DTEND;TZID=Europe/Brussels:20260529T170000
DTSTAMP:20260424T140440
CREATED:20260420T142346Z
LAST-MODIFIED:20260420T142346Z
UID:10627155-1780063200-1780074000@zorggroep-orion.be
SUMMARY:Dag van de buren
DESCRIPTION:Op Dag van de Buren maken we graag tijd voor wat extra gezelligheid in de buurt. \nDaarom nodigen we iedereen van harte uit om samen te komen voor een fijne namiddag vol ontmoeting en plezier in de cafetaria. \nVan 14u tot 15u komt ook de ijsjeskar langs. Heb je zin in een ijsje of gewoon een leuke babbel? Kom zeker eens langs! \nIedereen is welkom!
URL:https://zorggroep-orion.be/activiteit/dag-van-de-buren-3/
LOCATION:Dienstencentrum De Wissel\, Dokter Nand Peetersstraat 33\, Turnhout\, Antwerpen\, 2300\, Belgium
CATEGORIES:Eten & Drinken,Feest
ATTACH;FMTTYPE=image/png:https://zorggroep-orion.be/wp-content/uploads/2026/04/Schermafbeelding-2026-04-17-143358.png
END:VEVENT
END:VCALENDAR