BEGIN:VCALENDAR
VERSION:2.0
PRODID:-//Zorggroep Orion - ECPv6.15.17.1//NONSGML v1.0//EN
CALSCALE:GREGORIAN
METHOD:PUBLISH
X-WR-CALNAME:Zorggroep Orion
X-ORIGINAL-URL:https://zorggroep-orion.be
X-WR-CALDESC:Evenementen voor Zorggroep Orion
REFRESH-INTERVAL;VALUE=DURATION:PT1H
X-Robots-Tag:noindex
X-PUBLISHED-TTL:PT1H
BEGIN:VTIMEZONE
TZID:Europe/Brussels
BEGIN:DAYLIGHT
TZOFFSETFROM:+0100
TZOFFSETTO:+0200
TZNAME:CEST
DTSTART:20220327T010000
END:DAYLIGHT
BEGIN:STANDARD
TZOFFSETFROM:+0200
TZOFFSETTO:+0100
TZNAME:CET
DTSTART:20221030T010000
END:STANDARD
BEGIN:DAYLIGHT
TZOFFSETFROM:+0100
TZOFFSETTO:+0200
TZNAME:CEST
DTSTART:20230326T010000
END:DAYLIGHT
BEGIN:STANDARD
TZOFFSETFROM:+0200
TZOFFSETTO:+0100
TZNAME:CET
DTSTART:20231029T010000
END:STANDARD
BEGIN:DAYLIGHT
TZOFFSETFROM:+0100
TZOFFSETTO:+0200
TZNAME:CEST
DTSTART:20240331T010000
END:DAYLIGHT
BEGIN:STANDARD
TZOFFSETFROM:+0200
TZOFFSETTO:+0100
TZNAME:CET
DTSTART:20241027T010000
END:STANDARD
BEGIN:DAYLIGHT
TZOFFSETFROM:+0100
TZOFFSETTO:+0200
TZNAME:CEST
DTSTART:20250330T010000
END:DAYLIGHT
BEGIN:STANDARD
TZOFFSETFROM:+0200
TZOFFSETTO:+0100
TZNAME:CET
DTSTART:20251026T010000
END:STANDARD
END:VTIMEZONE
BEGIN:VEVENT
DTSTART;TZID=Europe/Brussels:20240422T140000
DTEND;TZID=Europe/Brussels:20240422T160000
DTSTAMP:20260425T210008
CREATED:20240320T092537Z
LAST-MODIFIED:20240320T092537Z
UID:10608629-1713794400-1713801600@zorggroep-orion.be
SUMMARY:KOFFIE EN PAPIEREN @ De Wissel
DESCRIPTION:OPGELET – Vanaf heden in De Wissel. \nBen je onzeker bij het invullen van een formulier? Begrijp je een brief niet? Wil je hulp bij een telefoon naar een dienst? … Tijdens koffie & papieren zijn we er om je op weg te helpen. \nDit is gratis. Je moet geen afspraak maken\, kom gewoon langs.\nDe koffie staat klaar!
URL:https://zorggroep-orion.be/activiteit/koffie-en-papieren-de-wissel/
LOCATION:Dienstencentrum De Wissel\, Dokter Nand Peetersstraat 33\, Turnhout\, Antwerpen\, 2300\, Belgium
CATEGORIES:Dienstverlening
ATTACH;FMTTYPE=image/png:https://zorggroep-orion.be/wp-content/uploads/2023/09/koffie-en-papieren-2023-okt.png
END:VEVENT
BEGIN:VEVENT
DTSTART;TZID=Europe/Brussels:20240418T110000
DTEND;TZID=Europe/Brussels:20240418T150000
DTSTAMP:20260425T210008
CREATED:20240322T094152Z
LAST-MODIFIED:20240322T094152Z
UID:10608731-1713438000-1713452400@zorggroep-orion.be
SUMMARY:Mobiel digipunt@De Wissel
DESCRIPTION:Ken of ben jij iemand die digitaal niet zo vaardig is en die wat extra hulp kan gebruiken? Kom dan gerust naar een het Mobiel Digipunt. \nDe vrijwilligers van het Digipunt helpen je op weg!
URL:https://zorggroep-orion.be/activiteit/mobiel-digipuntde-wissel/
LOCATION:Dienstencentrum De Wissel\, Dokter Nand Peetersstraat 33\, Turnhout\, Antwerpen\, 2300\, Belgium
CATEGORIES:Infosessie
ATTACH;FMTTYPE=image/jpeg:https://zorggroep-orion.be/wp-content/uploads/2024/03/act202404-Mobiel-digipunt.jpg
END:VEVENT
BEGIN:VEVENT
DTSTART;TZID=Europe/Brussels:20240415T140000
DTEND;TZID=Europe/Brussels:20240415T170000
DTSTAMP:20260425T210008
CREATED:20240322T093830Z
LAST-MODIFIED:20240322T093830Z
UID:10608730-1713189600-1713200400@zorggroep-orion.be
SUMMARY:Lezing 'gepassioneerd gepensioneerd'
DESCRIPTION:In een interactieve presentatie geeft Mark Claus inspiratie en concrete tips om je voor te bereiden op je pensioen. \nHet gaat over afbouw van werken\, afscheid nemen\, welke bijdrage je kan leveren aan je gezondheid\, relaties\, je geest\, geestelijke gezondheid en zingeving. \nLocatie: LDC De Wissel – Lokaal De Wagon \nPrijs: €1\,00 (inclusief koffie en thee) \nSchrijf je in via LDC De Wissel: 014 28 40 71 of dewissel@zorggroep-orion.be
URL:https://zorggroep-orion.be/activiteit/lezing-gepassioneerd-gepensioneerd/
LOCATION:Dienstencentrum De Wissel\, Dokter Nand Peetersstraat 33\, Turnhout\, Antwerpen\, 2300\, Belgium
CATEGORIES:Infosessie
ATTACH;FMTTYPE=image/jpeg:https://zorggroep-orion.be/wp-content/uploads/2024/03/act202404-lezing-gepassioneerd-gepensioneerd.jpg
END:VEVENT
BEGIN:VEVENT
DTSTART;TZID=Europe/Brussels:20240408T120000
DTEND;TZID=Europe/Brussels:20240408T133000
DTSTAMP:20260425T210008
CREATED:20240315T140909Z
LAST-MODIFIED:20240319T091257Z
UID:10608616-1712577600-1712583000@zorggroep-orion.be
SUMMARY:Paaslunch@De Wissel
DESCRIPTION:Tijdens de paasvakantie organiseren we een gezellige paaslunch voor jong en oud! \nOp het menu staat: \n\nGroentesoep\nVogelnestjes met puree en tomatensaus\n\nKom jij ook mee genieten? \nPraktisch: \n\nInschrijven kan vanaf 20 maart 2024.\nSchrijf je in via 014  28 40 71 of dewissel@zorggroep-orion.be\nOok online inschrijven is mogelijk: klik hier
URL:https://zorggroep-orion.be/activiteit/paaslunchde-wissel/
LOCATION:Dienstencentrum De Wissel\, Dokter Nand Peetersstraat 33\, Turnhout\, Antwerpen\, 2300\, Belgium
CATEGORIES:Eten & Drinken
ATTACH;FMTTYPE=image/jpeg:https://zorggroep-orion.be/wp-content/uploads/2024/03/act202404-paaslunch.jpg
END:VEVENT
BEGIN:VEVENT
DTSTART;TZID=Europe/Brussels:20240327T180000
DTEND;TZID=Europe/Brussels:20240327T210000
DTSTAMP:20260425T210008
CREATED:20240216T090042Z
LAST-MODIFIED:20240220T080347Z
UID:10608558-1711562400-1711573200@zorggroep-orion.be
SUMMARY:Kookworkshop Kando@De Wissel
DESCRIPTION:Samen met jongeren van Kando (jongeren met ASS en een grote zelfredzaamheid) maken we er een gezellige\, culinaire avond van. We koken samen een gezonde en budget vriendelijke maaltijd\, in kleine groep. \nPraktische info: \n\nHet koken gaat telkens door op woensdag van 18u00 – 21u00 in LDC De Wissel\nEr zullen 2 enthousiaste vrijwilligers van LDC De Wissel de kookworkshop mee begeleiden\nDe kookworkshop gaat door op volgende data: 27 maart\, 24 april\, 29 mei en 26 juni\nJe schrijft je in voor de hele reeks van 4 lessen\nDe inschrijvingsprijs bedraagt €24\,00.\nBeperkte plaatsen!\n\nJe kan inschrijven vanaf vrijdag 1 maart 2024. \nInschrijven via 014 28 40 71 of dewissel@zorggroep-orion.be \nOf online: klik hier
URL:https://zorggroep-orion.be/activiteit/kookworkshop-kandode-wissel/
LOCATION:Dienstencentrum De Wissel\, Dokter Nand Peetersstraat 33\, Turnhout\, Antwerpen\, 2300\, Belgium
CATEGORIES:Workshop
ATTACH;FMTTYPE=image/jpeg:https://zorggroep-orion.be/wp-content/uploads/2024/02/Kookactiviteit-Kando-2024.jpg
END:VEVENT
BEGIN:VEVENT
DTSTART;TZID=Europe/Brussels:20240325T140000
DTEND;TZID=Europe/Brussels:20240325T160000
DTSTAMP:20260425T210008
CREATED:20240220T151535Z
LAST-MODIFIED:20240220T151535Z
UID:10608575-1711375200-1711382400@zorggroep-orion.be
SUMMARY:KOFFIE EN PAPIEREN
DESCRIPTION:OPGELET – Vanaf heden in De Wissel. \nBen je onzeker bij het invullen van een formulier? Begrijp je een brief niet? Wil je hulp bij een telefoon naar een dienst? … Tijdens koffie & papieren zijn we er om je op weg te helpen. \nDit is gratis. Je moet geen afspraak maken\, kom gewoon langs.\nDe koffie staat klaar!
URL:https://zorggroep-orion.be/activiteit/koffie-en-papieren-4/
LOCATION:Dienstencentrum De Wissel\, Dokter Nand Peetersstraat 33\, Turnhout\, Antwerpen\, 2300\, Belgium
CATEGORIES:Dienstverlening
ATTACH;FMTTYPE=image/png:https://zorggroep-orion.be/wp-content/uploads/2023/09/koffie-en-papieren-2023-okt.png
END:VEVENT
BEGIN:VEVENT
DTSTART;TZID=Europe/Brussels:20240321T080000
DTEND;TZID=Europe/Brussels:20240321T210000
DTSTAMP:20260425T210008
CREATED:20240221T111754Z
LAST-MODIFIED:20240221T130315Z
UID:10608577-1711008000-1711054800@zorggroep-orion.be
SUMMARY:Daguitstap ROTTERDAM @ LDC's
DESCRIPTION:Jaarlijkse daguitstap met de dienstencentra: Een dagtocht om U tegen te zeggen. Een ganse dag gevuld met entertainment\, zelfs met Havenrondvaart in Rotterdam. Met een gids toeren we door deze moderne stad. We ontdekken de markthallen\, we doen een vaart met de Spido om dan gezellig in groep te genieten van een volledig warme maaltijd. \nPrijs Incl. vervoer-gids-warme maaltijd-kleine snack in de bus! \nExcl. dranken en lunch in de markthallen (voor eigen rekening). \nInschrijven kan vanaf 1 maart – 9 u of online: \nLdc Albert Van Dyck – 014 28 40 70 \nDe Wissel – 014 28 40 71 \nDe Schoor – 014 28 40 72
URL:https://zorggroep-orion.be/activiteit/daguitstap-rotterdam-ldcs/
LOCATION:Dienstencentrum Albert Van Dyck\, Albert Van Dyckstraat 10\, Turnhout\, Antwerpen\, 2300\, Belgium
CATEGORIES:Uitstap
ATTACH;FMTTYPE=image/png:https://zorggroep-orion.be/wp-content/uploads/2024/02/Daguitstap-LDC-AVD-03-2024.png
END:VEVENT
BEGIN:VEVENT
DTSTART;TZID=Europe/Brussels:20240320T120000
DTEND;TZID=Europe/Brussels:20240320T133000
DTSTAMP:20260425T210008
CREATED:20240227T073005Z
LAST-MODIFIED:20240227T073005Z
UID:10608585-1710936000-1710941400@zorggroep-orion.be
SUMMARY:Vaderdagmenu@De Wissel
DESCRIPTION:Op woensdag 20 maart vieren we onze vaders in LDC Wissel met een heerlijk vaderdagmenu. \nOp het menu staat: \n\nTomatenroomsoep met balletjes\nRibbetjes met een fris slaatje met ananas\, barbecue dipsausje en gebakken aardappelen\nChocomousse\n\nKom jij ook mee genieten? \nInschrijven kan vanaf vrijdag 1 maart 2024. \nSchrijf je in via 014  28 40 71 of dewissel@zorggroep-orion.be \nOok online inschrijven is mogelijk: inschrijven
URL:https://zorggroep-orion.be/activiteit/vaderdagmenude-wissel/
LOCATION:Dienstencentrum De Wissel\, Dokter Nand Peetersstraat 33\, Turnhout\, Antwerpen\, 2300\, Belgium
CATEGORIES:Eten & Drinken
ATTACH;FMTTYPE=image/jpeg:https://zorggroep-orion.be/wp-content/uploads/2024/02/202403-act-vaderdag.jpg
END:VEVENT
BEGIN:VEVENT
DTSTART;TZID=Europe/Brussels:20240313T083000
DTEND;TZID=Europe/Brussels:20240313T100000
DTSTAMP:20260425T210008
CREATED:20231213T075232Z
LAST-MODIFIED:20231222T095257Z
UID:10607900-1710318600-1710324000@zorggroep-orion.be
SUMMARY:Spaans beginners
DESCRIPTION:Heb je een passie voor Spanje\, maar beheers je de taal nog niet? Geen zorgen\, want bij ons ben je van harte welkom om jezelf onder te dompelen in de kunst van het Spaans tijdens onze boeiende Spaanse lessen! \nDe lessen starten vanaf woensdag 10 januari wekelijks\, uitgezonderd schoolvakanties en vakantiemomenten van de lesgever. \nPrijs: €10\,00 voor 10 lessen (gelieve vooraf in te schrijven).
URL:https://zorggroep-orion.be/activiteit/spaans-beginners-3/2024-03-13/
LOCATION:Dienstencentrum De Wissel\, Dokter Nand Peetersstraat 33\, Turnhout\, Antwerpen\, 2300\, Belgium
CATEGORIES:Leren
ATTACH;FMTTYPE=image/jpeg:https://zorggroep-orion.be/wp-content/uploads/2023/08/act-spaans-092023.jpg
END:VEVENT
BEGIN:VEVENT
DTSTART;TZID=Europe/Brussels:20240228T101500
DTEND;TZID=Europe/Brussels:20240228T113000
DTSTAMP:20260425T210008
CREATED:20231213T074808Z
LAST-MODIFIED:20231213T075029Z
UID:10607891-1709115300-1709119800@zorggroep-orion.be
SUMMARY:Spaans gevorderden
DESCRIPTION:Ben je al een beetje bekend met Spaanse woorden en zinnen? Als je al een lessenreeks hebt afgerond\, dan ben je helemaal klaar om je aan te sluiten bij de ‘Gevorderden’ groep. Hier leggen we de nadruk op conversaties in het Spaans. \nDe lessen starten vanaf woensdag 13 december wekelijks\, uitgezonderd schoolvakanties en vakantiemomenten van de lesgever. \nPrijs: €10\,00 voor 10 lessen (gelieve vooraf in te schrijven).
URL:https://zorggroep-orion.be/activiteit/spaans-gevorderden-3/2024-02-28/
LOCATION:Dienstencentrum De Wissel\, Dokter Nand Peetersstraat 33\, Turnhout\, Antwerpen\, 2300\, Belgium
CATEGORIES:Leren
ATTACH;FMTTYPE=image/jpeg:https://zorggroep-orion.be/wp-content/uploads/2023/08/act-spaans-092023.jpg
END:VEVENT
BEGIN:VEVENT
DTSTART;TZID=Europe/Brussels:20240226T140000
DTEND;TZID=Europe/Brussels:20240226T160000
DTSTAMP:20260425T210009
CREATED:20240118T105227Z
LAST-MODIFIED:20240121T113221Z
UID:10608468-1708956000-1708963200@zorggroep-orion.be
SUMMARY:Koffie en papieren
DESCRIPTION:OPGELET – Vanaf heden in De Wissel. \nBen je onzeker bij het invullen van een formulier? Begrijp je een brief niet? Wil je hulp bij een telefoon naar een dienst? … Tijdens koffie & papieren zijn we er om je op weg te helpen. \nDit is gratis. Je moet geen afspraak maken\, kom gewoon langs.\nDe koffie staat klaar!
URL:https://zorggroep-orion.be/activiteit/koffie-en-papieren-2/
LOCATION:Dienstencentrum De Wissel\, Dokter Nand Peetersstraat 33\, Turnhout\, Antwerpen\, 2300\, Belgium
CATEGORIES:Dienstverlening
ATTACH;FMTTYPE=image/png:https://zorggroep-orion.be/wp-content/uploads/2023/09/koffie-en-papieren-2023-okt.png
END:VEVENT
BEGIN:VEVENT
DTSTART;TZID=Europe/Brussels:20240220T140000
DTEND;TZID=Europe/Brussels:20240220T160000
DTSTAMP:20260425T210009
CREATED:20240117T134906Z
LAST-MODIFIED:20240117T134906Z
UID:10608462-1708437600-1708444800@zorggroep-orion.be
SUMMARY:Praatcafé DEMENTIE i.s.m. TANDEM
DESCRIPTION:Infosessie met gastspreker: Elke Keepers (medewerkster Tandem) \nWAT IS DEMENTIE ?  \n\nWe leggen het verschil uit tussen dementie en vergeetachtigheid.\nWat zijn symptomen en vormen van dementie? \n\nMet nadien mogelijkheid voor vragen – Hartelijk welkom. \nLocatie: Sint-Lucia\, Clarissendreef 1 te Turnhout. \n 
URL:https://zorggroep-orion.be/activiteit/praatcafe-dementie-i-s-m-tandem/
LOCATION:Dienstencentrum De Wissel\, Dokter Nand Peetersstraat 33\, Turnhout\, Antwerpen\, 2300\, Belgium
CATEGORIES:Dienstverlening
ATTACH;FMTTYPE=image/png:https://zorggroep-orion.be/wp-content/uploads/2024/01/PC-DEMENTIE-LDC-AVD-01-2024.png
END:VEVENT
BEGIN:VEVENT
DTSTART;TZID=Europe/Brussels:20240214T133000
DTEND;TZID=Europe/Brussels:20240214T170000
DTSTAMP:20260425T210009
CREATED:20240118T081752Z
LAST-MODIFIED:20240118T132423Z
UID:10608469-1707917400-1707930000@zorggroep-orion.be
SUMMARY:Sjoekesdag@De Wissel
DESCRIPTION:Woensdag 14 februari staat in het teken van Valentijn bij De Wissel! We nodigen daarom iedereen uit om samen met zijn ‘sjoeke(s)’ een koffie/thee te komen drinken met een lekker sjoeke erbij. \nIedereen is welkom! Inschrijven is niet nodig\, dus schuif gezellig mee aan! \nDe sjoekes zijn verkrijgbaar vanaf 13u30 tot 17u00. \n  \n 
URL:https://zorggroep-orion.be/activiteit/sjoekesdagde-wissel/
LOCATION:Dienstencentrum De Wissel\, Dokter Nand Peetersstraat 33\, Turnhout\, Antwerpen\, 2300\, Belgium
CATEGORIES:Eten & Drinken
ATTACH;FMTTYPE=image/jpeg:https://zorggroep-orion.be/wp-content/uploads/2024/01/202402act-sjoekesdag.jpg
END:VEVENT
BEGIN:VEVENT
DTSTART;TZID=Europe/Brussels:20240205T140000
DTEND;TZID=Europe/Brussels:20240205T170000
DTSTAMP:20260425T210009
CREATED:20240124T101355Z
LAST-MODIFIED:20240124T101355Z
UID:10608481-1707141600-1707152400@zorggroep-orion.be
SUMMARY:Crea: kleine schilderijen op staander maken
DESCRIPTION:Laat de creatieveling in je los! Kom je mee kleine schilderijen op staander maken? \nWe maken samen met Viviane een klein schilderijtje en ook een bijhorende staander uit wasknijpers. \nDe prijs bedraagt €5\,00. \nWe vragen je om zelf je eigen penselen mee te brengen.
URL:https://zorggroep-orion.be/activiteit/crea-kleine-schilderijen-op-staander-maken/
LOCATION:Dienstencentrum De Wissel\, Dokter Nand Peetersstraat 33\, Turnhout\, Antwerpen\, 2300\, Belgium
CATEGORIES:Workshop
ATTACH;FMTTYPE=image/jpeg:https://zorggroep-orion.be/wp-content/uploads/2024/01/IMG_20240118_143458-scaled.jpg
END:VEVENT
BEGIN:VEVENT
DTSTART;TZID=Europe/Brussels:20240201T133000
DTEND;TZID=Europe/Brussels:20240201T170000
DTSTAMP:20260425T210009
CREATED:20240118T120534Z
LAST-MODIFIED:20240118T120534Z
UID:10608476-1706794200-1706806800@zorggroep-orion.be
SUMMARY:Tournée Minérale
DESCRIPTION:Ga de uitdaging aan en drink een maand lang geen alcohol. Ervaar op deze manier wat een maand zonder met je doet. We geven de voorzet en bieden in het lokaal dienstencentrum alcoholvrije wijntjes aan. Deze zijn elke dag verkrijgbaar in het café tijdens onze normale openingsuren. Laat ons weten welke jij de lekkerste vindt\, dan komt deze misschien ook wel mee op de kaart.
URL:https://zorggroep-orion.be/activiteit/tournee-minerale-2/
LOCATION:Dienstencentrum De Wissel\, Dokter Nand Peetersstraat 33\, Turnhout\, Antwerpen\, 2300\, Belgium
CATEGORIES:Eten & Drinken
ATTACH;FMTTYPE=image/png:https://zorggroep-orion.be/wp-content/uploads/2024/01/act202402-Tournee-Minerale.png
END:VEVENT
BEGIN:VEVENT
DTSTART;TZID=Europe/Brussels:20240201T133000
DTEND;TZID=Europe/Brussels:20240201T170000
DTSTAMP:20260425T210009
CREATED:20240118T090341Z
LAST-MODIFIED:20240122T034801Z
UID:10608471-1706794200-1706806800@zorggroep-orion.be
SUMMARY:Tournée Minérale
DESCRIPTION:Ga de uitdaging aan en drink een maand lang geen alcohol. Ervaar op deze manier wat een maand zonder met je doet. We geven de voorzet en bieden in het lokaal dienstencentrum alcoholvrije wijntjes aan. Deze zijn elke dag verkrijgbaar in het café tijdens onze normale openingsuren. Laat ons weten welke jij de lekkerste vindt\, dan komt deze misschien ook wel mee op de kaart.
URL:https://zorggroep-orion.be/activiteit/tournee-minerale/
LOCATION:Dienstencentrum De Schoor\, Schorvoortstraat 53\, Turnhout\, 2300
CATEGORIES:Eten & Drinken
ATTACH;FMTTYPE=image/png:https://zorggroep-orion.be/wp-content/uploads/2024/01/act202402-Tournee-Minerale.png
END:VEVENT
BEGIN:VEVENT
DTSTART;TZID=Europe/Brussels:20240120T170000
DTEND;TZID=Europe/Brussels:20240120T210000
DTSTAMP:20260425T210009
CREATED:20231208T104029Z
LAST-MODIFIED:20231227T150704Z
UID:10607875-1705770000-1705784400@zorggroep-orion.be
SUMMARY:Turnhout by Night
DESCRIPTION:Zaterdag 20 januari 2024 staat er een nieuwe editie van Turnhout by Night klaar. Ontdek Turnhout tijdens deze belevingsvolle winterwandeling. \nTijdens een route van negen kilometer word je getrakteerd op animatie en verlichting. Je wandelt langs plaatsen of door locaties die anders niet of minder gemakkelijk toegankelijk zijn. Over de gehele route zijn er voldoende stopplaatsen voorzien voor een hapje of een drankje. Ook bij De Wissel kan je komen genieten van een drankje. Klik hier voor meer informatie. \nPraktisch \nAfstand: 9 kilometer \nVertrek en aankomst: \n\nVooraf ingeschreven: je kunt eender waar op de route starten\nDe dag zelf ingeschreven: vertrekken kan vanaf 17 uur vanuit:\n\nToerisme & UiT – Grote Markt 44\nde Warande – Warandestraat 42\n\n\n\nStarturen: tussen 17 en 21 uur \nDeelnameprijs: \n\nvoorverkoop: 2 euro\naan de kassa: 5 euro\nkinderen -12 jaar: gratis\n\nWil je graag meewandelen tijdens Turnhout by Night\, maar is de standaardroute van negen kilometer te lang? Dan kun je aansluiten bij de seniorenwandeling. \nEen stadsgids neemt je mee op pad voor een verkort traject van ongeveer drie kilometer. Onderweg zijn er voldoende rustpunten voorzien. Doordat je een deel van de standaardroute van negen kilometer wandelt\, pik je dus ook zeker een deel van de animatie en de verlichting mee. Afsluiten doe je met koffie en gebak. Klik hier voor meer informatie. \nInschrijven doe je vooraf aan de balie van Toerisme & UiT\, Grote Markt 44\, Turnhout.
URL:https://zorggroep-orion.be/activiteit/turnhout-by-night/
LOCATION:Dienstencentrum De Wissel\, Dokter Nand Peetersstraat 33\, Turnhout\, Antwerpen\, 2300\, Belgium
ATTACH;FMTTYPE=image/png:https://zorggroep-orion.be/wp-content/uploads/2023/12/Turnhout-by-Night.png
END:VEVENT
BEGIN:VEVENT
DTSTART;TZID=Europe/Brussels:20240108T120000
DTEND;TZID=Europe/Brussels:20240108T133000
DTSTAMP:20260425T210009
CREATED:20231121T155254Z
LAST-MODIFIED:20231121T155504Z
UID:10607573-1704715200-1704720600@zorggroep-orion.be
SUMMARY:Verloren Maandag@De Wissel
DESCRIPTION:Verloren maandag is een Belgische traditie. Ook wij houden deze traditie in ere in ons centrum en smullen gretig mee. \nMaak uw keuze bij inschrijving tussen maximum 2 stuks: worst- en/of appelbrood. \nPrijs: €8\,00 \nInschrijven kan vanaf maandag 18 december 2023. \nSchrijf je in via 014  28 40 71 of dewissel@zorggroep-orion.be \nOok online inschrijven is mogelijk: inschrijven \n 
URL:https://zorggroep-orion.be/activiteit/verloren-maandagde-wissel/
LOCATION:Dienstencentrum De Wissel\, Dokter Nand Peetersstraat 33\, Turnhout\, Antwerpen\, 2300\, Belgium
CATEGORIES:Feest
ATTACH;FMTTYPE=image/jpeg:https://zorggroep-orion.be/wp-content/uploads/2023/11/act202401-verloren-maandag.jpg
END:VEVENT
BEGIN:VEVENT
DTSTART;VALUE=DATE:20231231
DTEND;VALUE=DATE:20240101
DTSTAMP:20260425T210009
CREATED:20231211T145412Z
LAST-MODIFIED:20231211T145441Z
UID:10607878-1703980800-1704067199@zorggroep-orion.be
SUMMARY:NIEUWJAAR @ De Wissel
DESCRIPTION:FIJNE FEESTDAGEN ! \n31 december: café open 13.30 u  – 17.00 u / bureau gesloten \n1 januari: café open 13.30 u  – 17.00 u / bureau gesloten \n2 januari: café open 13.30 u  – 17.00 u / restaurant 12.00 u – 13.30 u / bureau 9.00 – 16.00 u
URL:https://zorggroep-orion.be/activiteit/nieuwjaar-de-wissel/
LOCATION:Dienstencentrum De Wissel\, Dokter Nand Peetersstraat 33\, Turnhout\, Antwerpen\, 2300\, Belgium
CATEGORIES:Goed om weten
ATTACH;FMTTYPE=image/jpeg:https://zorggroep-orion.be/wp-content/uploads/2023/12/kerst-2023-1.jpg
END:VEVENT
BEGIN:VEVENT
DTSTART;VALUE=DATE:20231225
DTEND;VALUE=DATE:20231226
DTSTAMP:20260425T210009
CREATED:20231211T145210Z
LAST-MODIFIED:20231213T120435Z
UID:10607877-1703462400-1703548799@zorggroep-orion.be
SUMMARY:KERSTMIS @ De Wissel
DESCRIPTION:FIJNE FEESTDAGEN ! \n24 december: café open 13.30 u  – 17.00 u / bureau gesloten \n25 december: café open 13.30 u  – 17.00 u / bureau gesloten \n26 december: café open 13.30 u  – 17.00 u / restaurant 12.00 u – 13.30 u / bureau 9.00 – 16.00 u
URL:https://zorggroep-orion.be/activiteit/kerstmis-de-wissel/
LOCATION:Dienstencentrum De Wissel\, Dokter Nand Peetersstraat 33\, Turnhout\, Antwerpen\, 2300\, Belgium
CATEGORIES:Goed om weten
ATTACH;FMTTYPE=image/jpeg:https://zorggroep-orion.be/wp-content/uploads/2023/12/kerst-2023.jpg
END:VEVENT
BEGIN:VEVENT
DTSTART;TZID=Europe/Brussels:20231214T190000
DTEND;TZID=Europe/Brussels:20231214T210000
DTSTAMP:20260425T210009
CREATED:20231018T135258Z
LAST-MODIFIED:20231020T075750Z
UID:10607432-1702580400-1702587600@zorggroep-orion.be
SUMMARY:Vorming: "Leer zelf reanimeren en een AED gebruiken"
DESCRIPTION:Stel: je wandelt door de Gasthuisstraat en er valt iemand op de grond. Wat doe je dan? Wanneer iemand getroffen wordt door een\nhartstilstand daalt de overlevingskans met 10% per minuut als er niet gereanimeerd wordt. Omdat de ziekenwagen niet altijd overal even\nsnel kan zijn\, gaan er zo kostbare minuten verloren. Daarom organiseren we samen met Stad Turnhout\, het Vlaamse\nKruis en het Rode Kruis gratis opleidingen waarin je de basistechnieken van het reanimeren en het gebruik van een AED leert. \nInschrijven is verplicht en kan via dewissel@zorggroep-orion.be
URL:https://zorggroep-orion.be/activiteit/vorming-leer-zelf-reanimeren-en-een-aed-gebruiken-2/
LOCATION:Dienstencentrum De Wissel\, Dokter Nand Peetersstraat 33\, Turnhout\, Antwerpen\, 2300\, Belgium
CATEGORIES:Infosessie
ATTACH;FMTTYPE=image/jpeg:https://zorggroep-orion.be/wp-content/uploads/2023/10/1.jpg
END:VEVENT
BEGIN:VEVENT
DTSTART;TZID=Europe/Brussels:20231214T120000
DTEND;TZID=Europe/Brussels:20231214T133000
DTSTAMP:20260425T210009
CREATED:20231116T144459Z
LAST-MODIFIED:20231121T154752Z
UID:10607554-1702555200-1702560600@zorggroep-orion.be
SUMMARY:Feestmenu@De Wissel
DESCRIPTION:December is de feestmaand bij uitstek! We ontvangen jou graag voor een heerlijke feestmenu. \nOp het menu staat: \n\nAperitief\nAspergeroomsoep\nGevulde kalkoenfilet\, peertje in rode wijn\, witloofstronkje en aardappelgratin\nKerstgebakje\n\nKom jij ook mee genieten? \nInschrijven kan vanaf maandag 27 november 2023. \nSchrijf je in via 014  28 40 71 of dewissel@zorggroep-orion.be \nOok online inschrijven is mogelijk: inschrijven \n  \n 
URL:https://zorggroep-orion.be/activiteit/feestmenude-wissel/
LOCATION:Dienstencentrum De Wissel\, Dokter Nand Peetersstraat 33\, Turnhout\, Antwerpen\, 2300\, Belgium
CATEGORIES:Feest
ATTACH;FMTTYPE=image/jpeg:https://zorggroep-orion.be/wp-content/uploads/2023/11/Act-202312-feestmenu.jpg
END:VEVENT
END:VCALENDAR