BEGIN:VCALENDAR
VERSION:2.0
PRODID:-//Zorggroep Orion - ECPv6.15.17.1//NONSGML v1.0//EN
CALSCALE:GREGORIAN
METHOD:PUBLISH
X-ORIGINAL-URL:https://zorggroep-orion.be
X-WR-CALDESC:Evenementen voor Zorggroep Orion
REFRESH-INTERVAL;VALUE=DURATION:PT1H
X-Robots-Tag:noindex
X-PUBLISHED-TTL:PT1H
BEGIN:VTIMEZONE
TZID:Europe/Brussels
BEGIN:DAYLIGHT
TZOFFSETFROM:+0100
TZOFFSETTO:+0200
TZNAME:CEST
DTSTART:20250330T010000
END:DAYLIGHT
BEGIN:STANDARD
TZOFFSETFROM:+0200
TZOFFSETTO:+0100
TZNAME:CET
DTSTART:20251026T010000
END:STANDARD
BEGIN:DAYLIGHT
TZOFFSETFROM:+0100
TZOFFSETTO:+0200
TZNAME:CEST
DTSTART:20260329T010000
END:DAYLIGHT
BEGIN:STANDARD
TZOFFSETFROM:+0200
TZOFFSETTO:+0100
TZNAME:CET
DTSTART:20261025T010000
END:STANDARD
BEGIN:DAYLIGHT
TZOFFSETFROM:+0100
TZOFFSETTO:+0200
TZNAME:CEST
DTSTART:20270328T010000
END:DAYLIGHT
BEGIN:STANDARD
TZOFFSETFROM:+0200
TZOFFSETTO:+0100
TZNAME:CET
DTSTART:20271031T010000
END:STANDARD
END:VTIMEZONE
BEGIN:VEVENT
DTSTART;TZID=Europe/Brussels:20260522T140000
DTEND;TZID=Europe/Brussels:20260522T160000
DTSTAMP:20260424T173152
CREATED:20260420T141755Z
LAST-MODIFIED:20260420T141755Z
UID:10627153-1779458400-1779465600@zorggroep-orion.be
SUMMARY:SINGER SONGWRITER DEN ED @ DE WISSEL
DESCRIPTION:Kom genieten van een gezellige en muzikale namiddag met ‘Den Ed’ in de cafetaria!  \nMet zijn akoestische gitaar en mondharmonica brengt hij een heerlijke sfeer naar het dienstencentrum. Of je nu houdt van rustige melodieën of vrolijke deuntjes\, Den Ed zorgt met zijn muziek voor een ontspannen sfeer.
URL:https://zorggroep-orion.be/activiteit/singer-songwriter-den-ed-de-wissel/
LOCATION:Dienstencentrum De Wissel\, Dokter Nand Peetersstraat 33\, Turnhout\, Antwerpen\, 2300\, Belgium
CATEGORIES:Muziek
ATTACH;FMTTYPE=image/png:https://zorggroep-orion.be/wp-content/uploads/2026/04/Den-Ed.png
END:VEVENT
BEGIN:VEVENT
DTSTART;TZID=Europe/Brussels:20260527T133000
DTEND;TZID=Europe/Brussels:20260527T163000
DTSTAMP:20260424T173152
CREATED:20260420T142045Z
LAST-MODIFIED:20260420T142045Z
UID:10627154-1779888600-1779899400@zorggroep-orion.be
SUMMARY:Karaoke met Guy@ De Wissel
DESCRIPTION:Zin om je zangtalent te laten horen of zing je liever gezellig mee vanop je stoel? \nKom dan op woensdag 27 mei naar de cafetaria van De Wissel voor een namiddag vol muziek en plezier!\nOf je nu een echt podiumbeest bent of gewoon komt genieten van de fijne sfeer en bekende meezingers: iedereen is welkom!
URL:https://zorggroep-orion.be/activiteit/karaoke-met-guy-de-wissel-3/
LOCATION:Dienstencentrum De Wissel\, Dokter Nand Peetersstraat 33\, Turnhout\, Antwerpen\, 2300\, Belgium
CATEGORIES:Muziek
ATTACH;FMTTYPE=image/jpeg:https://zorggroep-orion.be/wp-content/uploads/2026/02/guy.jpeg
END:VEVENT
BEGIN:VEVENT
DTSTART;TZID=Europe/Brussels:20260529T090000
DTEND;TZID=Europe/Brussels:20260605T170000
DTSTAMP:20260424T173152
CREATED:20260420T070511Z
LAST-MODIFIED:20260420T185507Z
UID:10627137-1780045200-1780678800@zorggroep-orion.be
SUMMARY:FOTOZOEKTOCHT 'THUIS IN TURNHOUT' @ Dienstencentra
DESCRIPTION:Fotozoektocht voor iedereen!\nWij organiseren een leuke en toegankelijke fotozoektocht voor iedereen: jong en oud\, groot en klein\, mobiel en minder mobiel. Iedereen is welkom om deel te nemen!\nDe zoektocht speelt zich af tussen drie dienstencentra (Albert Van Dyck\, De Schoor en De Wissel). Onderweg kan je telkens even pauzeren en genieten van iets lekkers. \nJe kan kiezen tussen twee soorten fotozoektochten:\n\nWandel- of fietszoektocht: een traject tussen de drie dienstencentra\, met foto’s die je onderweg moet terugvinden.\n\nKorte fotozoektocht: deze vindt plaats aan en rond de drie dienstencentra.\n\n\nZo kan iedereen op zijn eigen tempo deelnemen en gezellig samen zoeken én genieten.\nPraktische info:\n\nVan vrijdag 29 mei t.e.m. vrijdag 5 juni\nElke namiddag tussen 14u en 17u\n\nDeelnameformulieren liggen klaar in elk lokaal dienstencentrum.\nHeb je vervoer nodig tussen de dienstencentra? Laat dit dan vooraf even weten (dag en uur)\, dan zorgen wij voor een oplossing.\n \nHet wordt een fijne samenwerking tussen:\nZorggroep Orion\nFotoclub Turnhout\nSeniorenraad Turnhout\nStad Turnhout (Thuis in Turnhout)
URL:https://zorggroep-orion.be/activiteit/fotozoektocht-thuis-in-turnhout-3-dienstencentra/
LOCATION:Dienstencentrum Albert Van Dyck\, Albert Van Dyckstraat 10\, Turnhout\, Antwerpen\, 2300\, Belgium
CATEGORIES:Recreatie
ATTACH;FMTTYPE=image/png:https://zorggroep-orion.be/wp-content/uploads/2026/04/FOTOZOEKTOCHT-MEI-LDC-s-2026.png
END:VEVENT
BEGIN:VEVENT
DTSTART;TZID=Europe/Brussels:20260529T133000
DTEND;TZID=Europe/Brussels:20260529T170000
DTSTAMP:20260424T173152
CREATED:20260203T113117Z
LAST-MODIFIED:20260203T113211Z
UID:10622702-1780061400-1780074000@zorggroep-orion.be
SUMMARY:SPELLETJESNAMIDDAG @ DE WISSEL
DESCRIPTION:Tijdens de openingsuren van de cafetaria in LDC De Wissel kun je gezellig spelletjes komen spelen. We hebben en kast vol verschillende spelletjes die je gratis kunt spelen in ons café.
URL:https://zorggroep-orion.be/activiteit/spelletjesnamiddag-de-wissel-4-2/2026-05-29/
LOCATION:Dienstencentrum De Wissel\, Dokter Nand Peetersstraat 33\, Turnhout\, Antwerpen\, 2300\, Belgium
CATEGORIES:Recreatie
ATTACH;FMTTYPE=image/jpeg:https://zorggroep-orion.be/wp-content/uploads/2024/11/LDC-De-Wissel-spelletjesnamiddag-ism-inloophuis-dementie.jpg
END:VEVENT
BEGIN:VEVENT
DTSTART;TZID=Europe/Brussels:20260529T140000
DTEND;TZID=Europe/Brussels:20260529T170000
DTSTAMP:20260424T173152
CREATED:20260420T142346Z
LAST-MODIFIED:20260420T142346Z
UID:10627155-1780063200-1780074000@zorggroep-orion.be
SUMMARY:Dag van de buren
DESCRIPTION:Op Dag van de Buren maken we graag tijd voor wat extra gezelligheid in de buurt. \nDaarom nodigen we iedereen van harte uit om samen te komen voor een fijne namiddag vol ontmoeting en plezier in de cafetaria. \nVan 14u tot 15u komt ook de ijsjeskar langs. Heb je zin in een ijsje of gewoon een leuke babbel? Kom zeker eens langs! \nIedereen is welkom!
URL:https://zorggroep-orion.be/activiteit/dag-van-de-buren-3/
LOCATION:Dienstencentrum De Wissel\, Dokter Nand Peetersstraat 33\, Turnhout\, Antwerpen\, 2300\, Belgium
CATEGORIES:Eten & Drinken,Feest
ATTACH;FMTTYPE=image/png:https://zorggroep-orion.be/wp-content/uploads/2026/04/Schermafbeelding-2026-04-17-143358.png
END:VEVENT
END:VCALENDAR