BEGIN:VCALENDAR
VERSION:2.0
PRODID:-//Zorggroep Orion - ECPv6.15.17.1//NONSGML v1.0//EN
CALSCALE:GREGORIAN
METHOD:PUBLISH
X-WR-CALNAME:Zorggroep Orion
X-ORIGINAL-URL:https://zorggroep-orion.be
X-WR-CALDESC:Evenementen voor Zorggroep Orion
REFRESH-INTERVAL;VALUE=DURATION:PT1H
X-Robots-Tag:noindex
X-PUBLISHED-TTL:PT1H
BEGIN:VTIMEZONE
TZID:Europe/Brussels
BEGIN:DAYLIGHT
TZOFFSETFROM:+0100
TZOFFSETTO:+0200
TZNAME:CEST
DTSTART:20250330T010000
END:DAYLIGHT
BEGIN:STANDARD
TZOFFSETFROM:+0200
TZOFFSETTO:+0100
TZNAME:CET
DTSTART:20251026T010000
END:STANDARD
BEGIN:DAYLIGHT
TZOFFSETFROM:+0100
TZOFFSETTO:+0200
TZNAME:CEST
DTSTART:20260329T010000
END:DAYLIGHT
BEGIN:STANDARD
TZOFFSETFROM:+0200
TZOFFSETTO:+0100
TZNAME:CET
DTSTART:20261025T010000
END:STANDARD
BEGIN:DAYLIGHT
TZOFFSETFROM:+0100
TZOFFSETTO:+0200
TZNAME:CEST
DTSTART:20270328T010000
END:DAYLIGHT
BEGIN:STANDARD
TZOFFSETFROM:+0200
TZOFFSETTO:+0100
TZNAME:CET
DTSTART:20271031T010000
END:STANDARD
END:VTIMEZONE
BEGIN:VEVENT
DTSTART;TZID=Europe/Brussels:20260507T140000
DTEND;TZID=Europe/Brussels:20260507T160000
DTSTAMP:20260425T173005
CREATED:20260420T140446Z
LAST-MODIFIED:20260420T140446Z
UID:10627148-1778162400-1778169600@zorggroep-orion.be
SUMMARY:BINGO @ DE WISSEL
DESCRIPTION:Een gezellige bingonamiddag in LDC De Wissel! \nKoop een bingokaart\, streep de nummers af\, en wie weet roep jij straks luidkeels BINGO! En ga je naar huis met een geweldige prijs! \nPrijs: € 0\,75 per bingokaart \nVoor meer info: dewissel@zorggroep-orion.be of 014 28 40 71 \n 
URL:https://zorggroep-orion.be/activiteit/bingo-de-wissel-5/
LOCATION:Dienstencentrum De Wissel\, Dokter Nand Peetersstraat 33\, Turnhout\, Antwerpen\, 2300\, Belgium
CATEGORIES:Recreatie
ATTACH;FMTTYPE=image/png:https://zorggroep-orion.be/wp-content/uploads/2023/03/act-2021-Bingo.png
END:VEVENT
BEGIN:VEVENT
DTSTART;TZID=Europe/Brussels:20260507T184500
DTEND;TZID=Europe/Brussels:20260507T201500
DTSTAMP:20260425T173005
CREATED:20260403T134557Z
LAST-MODIFIED:20260403T134557Z
UID:10627058-1778179500-1778184900@zorggroep-orion.be
SUMMARY:Nalatenschapsplanning: Jouw erfenis\, jouw keuzes\, hun toekomst!
DESCRIPTION:Hoe draag je je vermogen belastingvrij over naar de volgende generatie? \nOntdek tijdens het seminarie van Pareto welke oplossingen er zijn om je vermogen veilig te stellen\, hoe je erfbelasting kunt beperken met behoud van controle en wat de meerwaardebelasting voor jouw vermogen betekent. \nInschrijven kan bij de medewerkers van De Schoor: \ndeschoor@zorggroep-orion.be of 014 28 40 72 \nof door binnen te springen.
URL:https://zorggroep-orion.be/activiteit/nalatenschapsplanning-jouw-erfenis-jouw-keuzes-hun-toekomst/
LOCATION:Dienstencentrum De Schoor\, Schorvoortstraat 53\, Turnhout\, 2300
CATEGORIES:Infosessie
ATTACH;FMTTYPE=image/png:https://zorggroep-orion.be/wp-content/uploads/2026/04/Schermafbeelding-2026-04-03-154455.png
END:VEVENT
BEGIN:VEVENT
DTSTART;TZID=Europe/Brussels:20260508T150000
DTEND;TZID=Europe/Brussels:20260508T160000
DTSTAMP:20260425T173005
CREATED:20260422T112307Z
LAST-MODIFIED:20260422T112307Z
UID:10627161-1778252400-1778256000@zorggroep-orion.be
SUMMARY:WATER EN WELLNESS @ GielsBos
DESCRIPTION:Telkens de 2e vrijdag!\n\nZwemmen in het zwembad van het Gielsbos voor mensen met dementie en hun begeleider.\nMen kan kiezen en genieten van een combinatie tussen beweging en wellness.\nHeb je geen begeleider: laat het ons weten\, wij gaan op zoek naar een zwembuddy voor jou.\nEr is steeds een redder aanwezig.\n\n€ 5 voor de persoon met dementie / begeleider zwemt gratis. \n€ 1 via kansentarief met UITpas.\n\n\nVervoer nodig?\n€ 4 / persoon.\n\nInschrijven bij Leen Van Den Broeck t 0471 02 02 70\nWebsite: www.turnhout.be/inschrijvingsformulier-dementievriendelijk-zwemmen\n\n\n\n\nLocatie: Het GielsBos\nBelevingsbad Waterlelie\nVosselaarseweg 1 – 2275 GIERLE
URL:https://zorggroep-orion.be/activiteit/water-en-wellness-gielsbos-8/
LOCATION:Dienstencentrum Albert Van Dyck\, Albert Van Dyckstraat 10\, Turnhout\, Antwerpen\, 2300\, Belgium
CATEGORIES:Bewegen
ATTACH;FMTTYPE=image/png:https://zorggroep-orion.be/wp-content/uploads/2024/09/DEMENTIE-VRIENDELIJK-ZWEMMEN-LDCs.png
END:VEVENT
BEGIN:VEVENT
DTSTART;TZID=Europe/Brussels:20260509T100000
DTEND;TZID=Europe/Brussels:20260509T170000
DTSTAMP:20260425T173005
CREATED:20260203T133942Z
LAST-MODIFIED:20260415T135250Z
UID:10625547-1778320800-1778346000@zorggroep-orion.be
SUMMARY:Uitstap zaterdagmarkt Scherpenheuvel
DESCRIPTION:We gaan met ons busje naar de zaterdagmarkt in Scherpenheuvel. 10u VERTREK aan De Schoor / 17u VERTREK in Scherpenheuvel. Geniet van een leuke middag!! \nInschrijven bij de medewerkers \ndeschoor@zorggroep-orion.be of 014 28 40 72 of door binnen te springen.
URL:https://zorggroep-orion.be/activiteit/uitstap-thuiszorgwinkel-goed/
LOCATION:Dienstencentrum De Schoor\, Schorvoortstraat 53\, Turnhout\, 2300
CATEGORIES:Uitstap
ATTACH;FMTTYPE=image/png:https://zorggroep-orion.be/wp-content/uploads/2023/03/Daguitstap-Scherpenheuvel.png
END:VEVENT
BEGIN:VEVENT
DTSTART;TZID=Europe/Brussels:20260510T090000
DTEND;TZID=Europe/Brussels:20260510T110000
DTSTAMP:20260425T173005
CREATED:20260407T112743Z
LAST-MODIFIED:20260407T112743Z
UID:10627059-1778403600-1778410800@zorggroep-orion.be
SUMMARY:Moederdagontbijt
DESCRIPTION:Kom genieten van een ontbijtje waar we alle mama’s in de kijker zetten. Koffie/thee\, een glaasje sinaasappelsap\, verse pistoletjes\, koffiekoekjes\, hartig en zoet beleg\, spek en eitjes\, … \nInschrijven is verplicht. \ndeschoor@zorggroep-orion.be \n014 28 40 72 of door even langs te komen in het dienstencentrum. \nInschrijven kan tot en met donderdag 7 april of tot het volzet is.
URL:https://zorggroep-orion.be/activiteit/moederdagontbijt/
LOCATION:Dienstencentrum De Schoor\, Schorvoortstraat 53\, Turnhout\, 2300
CATEGORIES:Eten & Drinken
ATTACH;FMTTYPE=image/jpeg:https://zorggroep-orion.be/wp-content/uploads/2024/02/act202403-ontbijt.jpg
END:VEVENT
BEGIN:VEVENT
DTSTART;TZID=Europe/Brussels:20260511T093000
DTEND;TZID=Europe/Brussels:20260511T123000
DTSTAMP:20260425T173005
CREATED:20260415T111117Z
LAST-MODIFIED:20260415T111117Z
UID:10627072-1778491800-1778502600@zorggroep-orion.be
SUMMARY:KOKEN @ Albert
DESCRIPTION:Workshop koken – terug van weggeweest\, beginnen we vol goede moed met: \nMeteen een super gerecht op het menu: HET WITTE GOUD\, en meteen een nieuwe keuken die we kunnen inpalmen.  \n“Aspergesalade met ham en ei\, quiche met asperges en gerookte zalm en om het dan nog compleet te maken\, chocolademousse als dessert”. \nMet een groepje van max. 11 personen zorgt Christine voor een heerlijk gerecht. \nVoor maar liefst € 13 ! INSCHRIJVEN vanaf MAANDAG 4 MEI – 9 u. \nHartelijk welkom in de keuken van Christine! \n 
URL:https://zorggroep-orion.be/activiteit/koken-albert-27/
LOCATION:Dienstencentrum Albert Van Dyck\, Albert Van Dyckstraat 10\, Turnhout\, Antwerpen\, 2300\, Belgium
CATEGORIES:Workshop
ATTACH;FMTTYPE=image/png:https://zorggroep-orion.be/wp-content/uploads/2026/04/KOKEN-MEI-LDC-AVD-2026.png
END:VEVENT
BEGIN:VEVENT
DTSTART;TZID=Europe/Brussels:20260511T133000
DTEND;TZID=Europe/Brussels:20260511T133000
DTSTAMP:20260425T173005
CREATED:20260415T111914Z
LAST-MODIFIED:20260415T114818Z
UID:10627073-1778506200-1778506200@zorggroep-orion.be
SUMMARY:WANDELINGEN @ Albert
DESCRIPTION:🚶‍♂️ Wandel in groep 🚶‍♀️Een gezellige tocht van ongeveer 5 km\, geschikt voor iedereen. (vaak buiten het centrum)Doe mee en ontdek hoe leuk wandelen samen kan zijn! \nVertrek om 13.30u bij onze hoofdingang van dienstencentrum Albert Van Dyck. Al dan niet vervoer mogelijk met ons busje! \nDeze maand: DE RAVELSE BOSSEN \nDeelname € 2 (incl. verzekering/ koffie\, thee of water)
URL:https://zorggroep-orion.be/activiteit/wandelingen-albert-4/
LOCATION:Dienstencentrum Albert Van Dyck\, Albert Van Dyckstraat 10\, Turnhout\, Antwerpen\, 2300\, Belgium
CATEGORIES:Bewegen
ATTACH;FMTTYPE=image/png:https://zorggroep-orion.be/wp-content/uploads/2026/04/WANDELEN-MEI-LDC-AVD-2026.png
END:VEVENT
BEGIN:VEVENT
DTSTART;TZID=Europe/Brussels:20260511T190000
DTEND;TZID=Europe/Brussels:20260511T210000
DTSTAMP:20260425T173005
CREATED:20250418T105203Z
LAST-MODIFIED:20260407T113549Z
UID:10618020-1778526000-1778533200@zorggroep-orion.be
SUMMARY:Poëzieclub
DESCRIPTION:We bespreken hier verschillende soorten poëzie\, wat het met je doet\, waar je aan denkt\, …\nSpreekt dit jou aan? Kom zeker eens langs en geef ons groepje mee vorm. \n€1 per persoon \nDrinken te verkrijgen bij de vrijwilligers aan de toog.
URL:https://zorggroep-orion.be/activiteit/poezieclub-2/
LOCATION:Dienstencentrum De Schoor\, Schorvoortstraat 53\, Turnhout\, 2300
CATEGORIES:Recreatie
ATTACH;FMTTYPE=image/jpeg:https://zorggroep-orion.be/wp-content/uploads/2023/09/act202310-poezieclubje.jpg
END:VEVENT
BEGIN:VEVENT
DTSTART;TZID=Europe/Brussels:20260511T190000
DTEND;TZID=Europe/Brussels:20260511T210000
DTSTAMP:20260425T173005
CREATED:20260407T113340Z
LAST-MODIFIED:20260407T113340Z
UID:10627060-1778526000-1778533200@zorggroep-orion.be
SUMMARY:Genieten van een luistermoment in stilte
DESCRIPTION:Het vocaal ensemble CANTAT komt repeteren in De Schoor. \nLuisteraars zijn welkom\, ons Café is open. \nGRATIS
URL:https://zorggroep-orion.be/activiteit/genieten-van-een-luistermoment-in-stilte-10/
LOCATION:Dienstencentrum De Schoor\, Schorvoortstraat 53\, Turnhout\, 2300
CATEGORIES:Muziek
ATTACH;FMTTYPE=image/png:https://zorggroep-orion.be/wp-content/uploads/2023/03/act-202306-cantat.png
END:VEVENT
BEGIN:VEVENT
DTSTART;TZID=Europe/Brussels:20260512T123000
DTEND;TZID=Europe/Brussels:20260512T153000
DTSTAMP:20260425T173005
CREATED:20260113T081420Z
LAST-MODIFIED:20260407T114025Z
UID:10623214-1778589000-1778599800@zorggroep-orion.be
SUMMARY:PANNENKOEKEN VIBO DE BREM @ De Schoor
DESCRIPTION:De leerlingen van VIBO De Brem trekken weer de keuken in en bakken verse\, pannenkoeken in onze dienstencentra.  \nInschrijven is niet nodig! \nPrijs: €3\,00 voor 2 pannenkoeken
URL:https://zorggroep-orion.be/activiteit/pannenkoeken-vibo-de-brem-de-schoor/
LOCATION:Dienstencentrum De Schoor\, Schorvoortstraat 53\, Turnhout\, 2300
CATEGORIES:Eten & Drinken
ATTACH;FMTTYPE=image/png:https://zorggroep-orion.be/wp-content/uploads/2023/03/202301-pannenkoeken.png
END:VEVENT
BEGIN:VEVENT
DTSTART;TZID=Europe/Brussels:20260513T090000
DTEND;TZID=Europe/Brussels:20260513T120000
DTSTAMP:20260425T173005
CREATED:20260407T114307Z
LAST-MODIFIED:20260407T114307Z
UID:10627061-1778662800-1778673600@zorggroep-orion.be
SUMMARY:Digidak les handige apps voor iedereen
DESCRIPTION:In deze cursus ontdek je apps die het dagelijkse leven gemakkelijker maken\, zoals agenda-apps\, notitie-apps en weerberichten. Na afloop kan je ze praktisch toepassen. \nLessen zijn gratis \nverplicht inschrijven tijdens: \n\nvrije inloopmoment maandagmiddag 13u30 – 16u\nmail: turnhout@digidak.be\ntelefonisch: 014 41 82 18 (9u – 12u)
URL:https://zorggroep-orion.be/activiteit/digidak-les-handige-apps-voor-iedereen/
LOCATION:Dienstencentrum De Schoor\, Schorvoortstraat 53\, Turnhout\, 2300
CATEGORIES:Leren
ATTACH;FMTTYPE=image/png:https://zorggroep-orion.be/wp-content/uploads/2023/03/act-202305-digidak.png
END:VEVENT
BEGIN:VEVENT
DTSTART;TZID=Europe/Brussels:20260513T120000
DTEND;TZID=Europe/Brussels:20260513T140000
DTSTAMP:20260425T173005
CREATED:20260420T140932Z
LAST-MODIFIED:20260420T140932Z
UID:10627149-1778673600-1778680800@zorggroep-orion.be
SUMMARY:Beuling met appelmoes @DeWissel
DESCRIPTION:Kom mee genieten van lekkere beuling met appelmoes en brood bij LDC De Wissel! \nOnze fantastische vrijwilligers staan met veel liefde en enthousiasme in de keuken om deze maaltijd voor jullie klaar te maken. Breng familie\, vrienden of buren mee en schuif gezellig aan! \nInschrijven kan bij LDC De Wissel t.e.m. 08/05/2026. \nVOL = VOL
URL:https://zorggroep-orion.be/activiteit/beuling-met-appelmoes-dewissel/
LOCATION:Dienstencentrum De Wissel\, Dokter Nand Peetersstraat 33\, Turnhout\, Antwerpen\, 2300\, Belgium
CATEGORIES:Eten & Drinken
ATTACH;FMTTYPE=image/jpeg:https://zorggroep-orion.be/wp-content/uploads/2026/04/20250514_111730-scaled.jpg
END:VEVENT
BEGIN:VEVENT
DTSTART;TZID=Europe/Brussels:20260513T140000
DTEND;TZID=Europe/Brussels:20260513T170000
DTSTAMP:20260425T173005
CREATED:20260415T122007Z
LAST-MODIFIED:20260415T122007Z
UID:10627074-1778680800-1778691600@zorggroep-orion.be
SUMMARY:ZINGEN MET GUY @ Albert
DESCRIPTION:Hou je van zingen\, volg je graag mee de tekst op het scherm? \nDurf jij de micro misschien vast te nemen of zing je liever met zijn allen samen? \nWe zien jullie graag komen in ons centrum\, heb je zelfs een verzoeknummer: laat maar horen\, wij zoeken alvast de tekst. \nSamen maken we ‘r een leuke namiddag van. Om het modern te zeggen: KARAOKE. \nVrijblijvend toegang “daar in het kleine café … bij de flatjes” omdat het zo gezellig is. \n 
URL:https://zorggroep-orion.be/activiteit/zingen-met-guy-albert/
LOCATION:Dienstencentrum Albert Van Dyck\, Albert Van Dyckstraat 10\, Turnhout\, Antwerpen\, 2300\, Belgium
CATEGORIES:Muziek
ATTACH;FMTTYPE=image/png:https://zorggroep-orion.be/wp-content/uploads/2026/04/KARAOKE-MEI-LDC-AVD-2026.png
END:VEVENT
BEGIN:VEVENT
DTSTART;VALUE=DATE:20260514
DTEND;VALUE=DATE:20260515
DTSTAMP:20260425T173005
CREATED:20250410T131035Z
LAST-MODIFIED:20260415T124210Z
UID:10616940-1778716800-1778803199@zorggroep-orion.be
SUMMARY:HEMELVAARTSDAG @ Albert
DESCRIPTION:Op zon- en feestdagen staan ook wij paraat! \nSamen met een geweldige ploeg van vrijwilligers kunnen wij doorlopend openblijven en jullie voorzien van de nodige spijs en drank. \nKom gerust een keertje langs\, hier valt altijd iets te beleven. \nCAFETARIA OPEN VANAF 11.30 U – De koffie staat klaar! \nRESTAURANT VAN 12 -13 U – Smakelijk eten! \nKantoren gesloten!
URL:https://zorggroep-orion.be/activiteit/hemelvaartsdag-albert/
LOCATION:Dienstencentrum Albert Van Dyck\, Albert Van Dyckstraat 10\, Turnhout\, Antwerpen\, 2300\, Belgium
CATEGORIES:Goed om weten
ATTACH;FMTTYPE=image/png:https://zorggroep-orion.be/wp-content/uploads/2025/04/HEMELVAARTDAG-WIJ-ZIJN-OPEN-LDC-AVD-2025.png
END:VEVENT
BEGIN:VEVENT
DTSTART;TZID=Europe/Brussels:20260514T133000
DTEND;TZID=Europe/Brussels:20260514T170000
DTSTAMP:20260425T173005
CREATED:20260407T115156Z
LAST-MODIFIED:20260407T115156Z
UID:10627062-1778765400-1778778000@zorggroep-orion.be
SUMMARY:Hemelvaart
DESCRIPTION:Op Hemelvaart is ons onthaal gesloten. Er is vandaag ook geen restaurant. \nMaar niet getreurd: ons café is wél gewoon open van 13u30 tot 17u. \nKom gerust langs voor een gezellig drankje!
URL:https://zorggroep-orion.be/activiteit/hemelvaart/
LOCATION:Dienstencentrum De Schoor\, Schorvoortstraat 53\, Turnhout\, 2300
CATEGORIES:Goed om weten
ATTACH;FMTTYPE=image/png:https://zorggroep-orion.be/wp-content/uploads/2025/04/wij-zijn-open-2.png
END:VEVENT
BEGIN:VEVENT
DTSTART;TZID=Europe/Brussels:20260515T140000
DTEND;TZID=Europe/Brussels:20260515T140000
DTSTAMP:20260425T173005
CREATED:20260420T085157Z
LAST-MODIFIED:20260420T094810Z
UID:10627143-1778853600-1778853600@zorggroep-orion.be
SUMMARY:QUIZ met BOB @ Albert
DESCRIPTION:We eindigen de voorjaarsreeks van de digitale infosessies\, gegeven door Bob Devisscher: met een quiznamiddag. \nEen quiz met tal van onderwerpen\, al dan niet digitale onderwerpen\, uit het dagelijkse leven. Voorkennis is NIET vereist. \nZeer ludiek\, laagdrempelig en vooral PLEZANT! dit onder het motto: Iedereen kan quizzen. \nVan harte welkom – prijs is incl. koffie\, thee of water.
URL:https://zorggroep-orion.be/activiteit/quiz-met-bob-albert/
LOCATION:Dienstencentrum Albert Van Dyck\, Albert Van Dyckstraat 10\, Turnhout\, Antwerpen\, 2300\, Belgium
CATEGORIES:Infosessie
ATTACH;FMTTYPE=image/png:https://zorggroep-orion.be/wp-content/uploads/2026/04/QUIZ-LDC-AVD-2026.png
END:VEVENT
BEGIN:VEVENT
DTSTART;TZID=Europe/Brussels:20260518T100000
DTEND;TZID=Europe/Brussels:20260518T110000
DTSTAMP:20260425T173005
CREATED:20260415T135254Z
LAST-MODIFIED:20260415T135254Z
UID:10627075-1779098400-1779102000@zorggroep-orion.be
SUMMARY:PRAATGROEP PARKINSON EN MS @ Albert
DESCRIPTION:Ziekte van Parkinson en Multiple Sclerose (MS) zijn beide ernstige\, chronische hersenaandoeningen met overlap in symptomen zoals vermoeidheid\, depressie en bewegingsproblemen (stijfheid\, loopstoornissen)\, maar ze zijn daarnaast ook wel verschillend. \nZit je met vragen\, wat zijn mogelijke noden die jullie ervaren\, … \nTijdens dit praatuurtje luisteren wij graag naar jullie verhalen en waar kansen liggen om samen zaken te verwezenlijken. \nKoffie of thee staan klaar\, alvast hartelijk welkom in ons centrum. \n  \n  \n 
URL:https://zorggroep-orion.be/activiteit/praatgroep-parkinson-en-ms-albert-4/
LOCATION:Dienstencentrum Albert Van Dyck\, Albert Van Dyckstraat 10\, Turnhout\, Antwerpen\, 2300\, Belgium
CATEGORIES:Infosessie
ATTACH;FMTTYPE=image/png:https://zorggroep-orion.be/wp-content/uploads/2026/01/PARKINSON-EN-MS-LDC-AVD.png
END:VEVENT
BEGIN:VEVENT
DTSTART;TZID=Europe/Brussels:20260518T120000
DTEND;TZID=Europe/Brussels:20260518T133000
DTSTAMP:20260425T173005
CREATED:20260420T141332Z
LAST-MODIFIED:20260420T141332Z
UID:10627151-1779105600-1779111000@zorggroep-orion.be
SUMMARY:POP-UP SOEP @DEWISSEL
DESCRIPTION:Onze enthousiaste vrijwilligers toveren hun kooktalenten weer tevoorschijn en verwennen jullie met dampende\, verse soep. Wij serveren deze heerlijke soep met brood. \nInschrijven is niet nodig\, dus schuif gezellig aan! \nDe opbrengst schenken we aan een goed doel! \nPrijs: €3\,00 voor soep met brood (inclusief 2 tassen soep)
URL:https://zorggroep-orion.be/activiteit/pop-up-soep-dewissel/
LOCATION:Dienstencentrum De Wissel\, Dokter Nand Peetersstraat 33\, Turnhout\, Antwerpen\, 2300\, Belgium
CATEGORIES:Eten & Drinken
ATTACH;FMTTYPE=image/jpeg:https://zorggroep-orion.be/wp-content/uploads/2023/12/Soepdag.jpg
END:VEVENT
BEGIN:VEVENT
DTSTART;TZID=Europe/Brussels:20260518T163000
DTEND;TZID=Europe/Brussels:20260518T163000
DTSTAMP:20260425T173005
CREATED:20260416T075530Z
LAST-MODIFIED:20260416T075530Z
UID:10627130-1779121800-1779121800@zorggroep-orion.be
SUMMARY:SMULACTIVITEIT ASPERGERAGOUT @ Albert
DESCRIPTION:Om verder te genieten van HET WITTE GOUD  hebben wij ook deze maand een heerlijk gerechtje op ons menu:   \n“Aspergeragout afgewerkt met gandaham\, peterselie en ei\, geserveerd in 2 pasteitjes\, vergezeld van pomme duhesse”.  \nGelieve in te schrijven vanaf 4 mei 2026 – 9 u.  \nHartelijk Welkom.  \nOPGELET EEN WEEKJE VROEGER DAN NORMAAL OMV PINKSTERMAANDAG
URL:https://zorggroep-orion.be/activiteit/smulactiviteit-aspergeragout-albert/
LOCATION:Dienstencentrum Albert Van Dyck\, Albert Van Dyckstraat 10\, Turnhout\, Antwerpen\, 2300\, Belgium
CATEGORIES:Eten & Drinken
ATTACH;FMTTYPE=image/png:https://zorggroep-orion.be/wp-content/uploads/2026/04/SMUL-MEI-LDC-AVD-2026.png
END:VEVENT
BEGIN:VEVENT
DTSTART;TZID=Europe/Brussels:20260519T140000
DTEND;TZID=Europe/Brussels:20260519T160000
DTSTAMP:20260425T173005
CREATED:20260420T141448Z
LAST-MODIFIED:20260420T141448Z
UID:10627152-1779199200-1779206400@zorggroep-orion.be
SUMMARY:PANNENKOEKEN VIBO DE BREM @ DE WISSEL
DESCRIPTION:De leerlingen van VIBO De Brem trekken weer de keuken in en bakken verse\, pannenkoeken in onze dienstencentra. Deze keer is LDC De Wissel aan de beurt! \nInschrijven is niet nodig! \nPrijs: €3\,00 voor 2 pannenkoeken
URL:https://zorggroep-orion.be/activiteit/pannenkoeken-vibo-de-brem-de-wissel-5/
LOCATION:Dienstencentrum De Wissel\, Dokter Nand Peetersstraat 33\, Turnhout\, Antwerpen\, 2300\, Belgium
CATEGORIES:Eten & Drinken
ATTACH;FMTTYPE=image/png:https://zorggroep-orion.be/wp-content/uploads/2023/03/202301-pannenkoeken.png
END:VEVENT
BEGIN:VEVENT
DTSTART;TZID=Europe/Brussels:20260520T090000
DTEND;TZID=Europe/Brussels:20260520T120000
DTSTAMP:20260425T173005
CREATED:20260113T085656Z
LAST-MODIFIED:20260407T120136Z
UID:10623215-1779267600-1779278400@zorggroep-orion.be
SUMMARY:Digidak les chat GPT
DESCRIPTION:Met ChatGPT leer je hoe je slimme vragen stelt en duidelijke antwoorden krijgt. Je ontdekt hoe je ChatGPT kan gebruiken om informatie te vinden\, teksten te schrijven of ideeën uit te werken. Na deze cursus kan je ChatGPT effectief inzetten als digitale assistent. \nLessen zijn gratis. Vooraf inschrijven is verplicht en kan\nTijdens vrije inloop (LDC De Schoor elke maandag 13u30 – 16u) – www.digidak.be/locaties\nPer mail: turnhout@digidak.be\nTelefonisch 014 41 82 18 (9u-12u)
URL:https://zorggroep-orion.be/activiteit/digidak-les-digitaal-opslaan/
LOCATION:Dienstencentrum De Schoor\, Schorvoortstraat 53\, Turnhout\, 2300
CATEGORIES:Leren
ATTACH;FMTTYPE=image/png:https://zorggroep-orion.be/wp-content/uploads/2023/03/act-202305-digidak.png
END:VEVENT
BEGIN:VEVENT
DTSTART;TZID=Europe/Brussels:20260520T140000
DTEND;TZID=Europe/Brussels:20260520T140000
DTSTAMP:20260425T173005
CREATED:20260420T182221Z
LAST-MODIFIED:20260420T182221Z
UID:10627160-1779285600-1779285600@zorggroep-orion.be
SUMMARY:MIA's SOEP @ Albert
DESCRIPTION:Vanaf 14 u zet Mia de potten op het vuur\, en wees gerust – ’t is niet duur! \nGewoon als 4-uurtje kan je genieten van een heerlijk VERS KOPJE SOEP met brood! \nMaandelijks een ander smaakje. Jij komt toch ook proeven?  \nMia heet jullie hartelijk welkom in onze kleine keuken\, dit onder het motto OP = OP. \n(NIET OM AF TE HALEN) \n 
URL:https://zorggroep-orion.be/activiteit/mias-soep-albert-3/
LOCATION:Dienstencentrum Albert Van Dyck\, Albert Van Dyckstraat 10\, Turnhout\, Antwerpen\, 2300\, Belgium
CATEGORIES:Workshop
ATTACH;FMTTYPE=image/png:https://zorggroep-orion.be/wp-content/uploads/2026/04/SOEP-MEI-LDC-AVD-2026.png
END:VEVENT
BEGIN:VEVENT
DTSTART;TZID=Europe/Brussels:20260520T140000
DTEND;TZID=Europe/Brussels:20260520T163000
DTSTAMP:20260425T173005
CREATED:20260113T142508Z
LAST-MODIFIED:20260415T140138Z
UID:10623235-1779285600-1779294600@zorggroep-orion.be
SUMMARY:Bingo in DE SCHOOR
DESCRIPTION:Elke derde woensdag van de maand organiseren we een bingo in ons dienstencentrum. \n€4.5/6 rondes. \nIEDEREEN WELKOM! \nTijdens de pauze kun je genieten van een Brusselse wafel aan €2.
URL:https://zorggroep-orion.be/activiteit/bingo-in-de-schoor/2026-05-20/
LOCATION:Dienstencentrum De Schoor\, Schorvoortstraat 53\, Turnhout\, 2300
CATEGORIES:Recreatie
ATTACH;FMTTYPE=image/png:https://zorggroep-orion.be/wp-content/uploads/2022/01/bingo.png
END:VEVENT
BEGIN:VEVENT
DTSTART;TZID=Europe/Brussels:20260521T093000
DTEND;TZID=Europe/Brussels:20260521T120000
DTSTAMP:20260425T173005
CREATED:20260416T075807Z
LAST-MODIFIED:20260416T075807Z
UID:10627131-1779355800-1779364800@zorggroep-orion.be
SUMMARY:FILM @ Albert
DESCRIPTION:Je kan hier maandelijks in alle rust genieten van een film: romantiek\, actie\, thriller\, familie …. uw vraagt\, wij draaien.  Waarom nog twijfelen? Géén was\, géén plas\, maar een donderdag genieten in goed gezelschap. Van Harte Welkom! Prijs € 2 incl. koffie\, thee of water. \nTelkens de 3e Donderdagvoormiddag!
URL:https://zorggroep-orion.be/activiteit/film-albert-4/
LOCATION:Dienstencentrum Albert Van Dyck\, Albert Van Dyckstraat 10\, Turnhout\, Antwerpen\, 2300\, Belgium
CATEGORIES:Recreatie
ATTACH;FMTTYPE=image/png:https://zorggroep-orion.be/wp-content/uploads/2025/09/FILM-OKT-LDC-AVD-2025.png
END:VEVENT
BEGIN:VEVENT
DTSTART;TZID=Europe/Brussels:20260521T133000
DTEND;TZID=Europe/Brussels:20260521T170000
DTSTAMP:20260425T173005
CREATED:20260415T135047Z
LAST-MODIFIED:20260415T135047Z
UID:10627077-1779370200-1779382800@zorggroep-orion.be
SUMMARY:CREA
DESCRIPTION:Tijd om creatief te zijn! Tijdens onze crea knutselen we een originele servetring die jouw tafel net dat tikkeltje extra geeft
URL:https://zorggroep-orion.be/activiteit/crea-3/
LOCATION:Dienstencentrum De Schoor\, Schorvoortstraat 53\, Turnhout\, 2300
CATEGORIES:Recreatie
ATTACH;FMTTYPE=image/jpeg:https://zorggroep-orion.be/wp-content/uploads/2026/04/WhatsApp-Image-2026-04-15-at-15.37.28.jpeg
END:VEVENT
BEGIN:VEVENT
DTSTART;TZID=Europe/Brussels:20260521T140000
DTEND;TZID=Europe/Brussels:20260521T170000
DTSTAMP:20260425T173005
CREATED:20260416T081951Z
LAST-MODIFIED:20260416T090518Z
UID:10627132-1779372000-1779382800@zorggroep-orion.be
SUMMARY:HAPJE OP DONDERDAG @ Albert
DESCRIPTION:Deze donderdagnamiddag kan je genieten van een heerlijke zoetigheid à democratische prijs. \nOnze vrijwilligers serveren met de glimlach – en dat proef je! \nGeniet ervan in ons gezellig cafetaria of op het terras en niet te vergeten\, steeds in leuk gezelschap. 🍰
URL:https://zorggroep-orion.be/activiteit/hapje-op-donderdag-albert/
LOCATION:Dienstencentrum Albert Van Dyck\, Albert Van Dyckstraat 10\, Turnhout\, Antwerpen\, 2300\, Belgium
CATEGORIES:Eten & Drinken
ATTACH;FMTTYPE=image/png:https://zorggroep-orion.be/wp-content/uploads/2026/04/HAPJE-OP-DOND-MEI-LDC-AVD-2026.png
END:VEVENT
BEGIN:VEVENT
DTSTART;TZID=Europe/Brussels:20260522T090000
DTEND;TZID=Europe/Brussels:20260522T180000
DTSTAMP:20260425T173005
CREATED:20260416T140324Z
LAST-MODIFIED:20260420T192314Z
UID:10627136-1779440400-1779472800@zorggroep-orion.be
SUMMARY:SHOPPEN BLADEL NL @ Albert
DESCRIPTION:Wat is er gezelliger dan in goed gezelschap te genieten van een dagje shoppen?  Deze maand rijden we naar BLADEL NL. \nWij vertrekken om 9 u bij onze hoofdingang van ons centrum. Je kan zelf je dag invullen naar wens. \nRond 16 u (na onderling overleg) staan onze chauffeurs van dienst\, Dirk en of Louis weer paraat om jullie in alle veiligheid weer thuis te brengen. \nInschrijven vanaf 4 mei – 9 u! 
URL:https://zorggroep-orion.be/activiteit/shoppen-bladel-nl-albert/
LOCATION:Dienstencentrum Albert Van Dyck\, Albert Van Dyckstraat 10\, Turnhout\, Antwerpen\, 2300\, Belgium
CATEGORIES:Uitstap
ATTACH;FMTTYPE=image/png:https://zorggroep-orion.be/wp-content/uploads/2026/04/SHOPPEN-BLADEL-MEI-LDC-AVD-2026.png
END:VEVENT
BEGIN:VEVENT
DTSTART;TZID=Europe/Brussels:20260522T120000
DTEND;TZID=Europe/Brussels:20260522T170000
DTSTAMP:20260425T173005
CREATED:20260407T120418Z
LAST-MODIFIED:20260415T135834Z
UID:10627065-1779451200-1779469200@zorggroep-orion.be
SUMMARY:Caféwerking Nautica
DESCRIPTION:Elke vrijdag (uitgezonderd vakanties) komen de leerlingen van Nautica ons café open houden.\nZin in iets lekkers? Kom genieten van een kom verse soep met brood of een lekker croque bereid door de leerlingen van Nautica. \nIedereen is welkom\, inschrijven is niet nodig!
URL:https://zorggroep-orion.be/activiteit/cafewerking-nautica-4/2026-05-22/
LOCATION:Dienstencentrum De Schoor\, Schorvoortstraat 53\, Turnhout\, 2300
CATEGORIES:Eten & Drinken
ATTACH;FMTTYPE=image/png:https://zorggroep-orion.be/wp-content/uploads/2025/12/NAUTICA.png
END:VEVENT
BEGIN:VEVENT
DTSTART;TZID=Europe/Brussels:20260522T140000
DTEND;TZID=Europe/Brussels:20260522T160000
DTSTAMP:20260425T173005
CREATED:20260420T141755Z
LAST-MODIFIED:20260420T141755Z
UID:10627153-1779458400-1779465600@zorggroep-orion.be
SUMMARY:SINGER SONGWRITER DEN ED @ DE WISSEL
DESCRIPTION:Kom genieten van een gezellige en muzikale namiddag met ‘Den Ed’ in de cafetaria!  \nMet zijn akoestische gitaar en mondharmonica brengt hij een heerlijke sfeer naar het dienstencentrum. Of je nu houdt van rustige melodieën of vrolijke deuntjes\, Den Ed zorgt met zijn muziek voor een ontspannen sfeer.
URL:https://zorggroep-orion.be/activiteit/singer-songwriter-den-ed-de-wissel/
LOCATION:Dienstencentrum De Wissel\, Dokter Nand Peetersstraat 33\, Turnhout\, Antwerpen\, 2300\, Belgium
CATEGORIES:Muziek
ATTACH;FMTTYPE=image/png:https://zorggroep-orion.be/wp-content/uploads/2026/04/Den-Ed.png
END:VEVENT
BEGIN:VEVENT
DTSTART;TZID=Europe/Brussels:20260524T140000
DTEND;TZID=Europe/Brussels:20260524T170000
DTSTAMP:20260425T173005
CREATED:20260407T124414Z
LAST-MODIFIED:20260407T124414Z
UID:10627067-1779631200-1779642000@zorggroep-orion.be
SUMMARY:Optreden Rik Klessens
DESCRIPTION:Rik Klessens komt bij ons langs om te zingen. Met zijn warme stem en gevarieerd repertoire zorgt hij ongetwijfeld voor een gezellige en sfeervolle namiddag. \nKom luisteren\, meezingen en genieten van mooie muziek in goed gezelschap. Mis dit optreden zeker niet! \nIedereen van harte welkom!
URL:https://zorggroep-orion.be/activiteit/optreden-rik-klessens/
LOCATION:Dienstencentrum De Schoor\, Schorvoortstraat 53\, Turnhout\, 2300
CATEGORIES:Muziek
ATTACH;FMTTYPE=image/jpeg:https://zorggroep-orion.be/wp-content/uploads/2025/02/DJ-Eddy-2025.jpg
END:VEVENT
END:VCALENDAR